BEGIN:VCALENDAR
VERSION:2.0
PRODID:-//HSH-Lamprecht - ECPv6.15.18//NONSGML v1.0//EN
CALSCALE:GREGORIAN
METHOD:PUBLISH
X-WR-CALNAME:HSH-Lamprecht
X-ORIGINAL-URL:https://hsh-lamprecht.de
X-WR-CALDESC:Veranstaltungen für HSH-Lamprecht
REFRESH-INTERVAL;VALUE=DURATION:PT1H
X-Robots-Tag:noindex
X-PUBLISHED-TTL:PT1H
BEGIN:VTIMEZONE
TZID:Europe/Berlin
BEGIN:DAYLIGHT
TZOFFSETFROM:+0100
TZOFFSETTO:+0200
TZNAME:CEST
DTSTART:20250330T010000
END:DAYLIGHT
BEGIN:STANDARD
TZOFFSETFROM:+0200
TZOFFSETTO:+0100
TZNAME:CET
DTSTART:20251026T010000
END:STANDARD
BEGIN:DAYLIGHT
TZOFFSETFROM:+0100
TZOFFSETTO:+0200
TZNAME:CEST
DTSTART:20260329T010000
END:DAYLIGHT
BEGIN:STANDARD
TZOFFSETFROM:+0200
TZOFFSETTO:+0100
TZNAME:CET
DTSTART:20261025T010000
END:STANDARD
BEGIN:DAYLIGHT
TZOFFSETFROM:+0100
TZOFFSETTO:+0200
TZNAME:CEST
DTSTART:20270328T010000
END:DAYLIGHT
BEGIN:STANDARD
TZOFFSETFROM:+0200
TZOFFSETTO:+0100
TZNAME:CET
DTSTART:20271031T010000
END:STANDARD
BEGIN:DAYLIGHT
TZOFFSETFROM:+0100
TZOFFSETTO:+0200
TZNAME:CEST
DTSTART:20280326T010000
END:DAYLIGHT
BEGIN:STANDARD
TZOFFSETFROM:+0200
TZOFFSETTO:+0100
TZNAME:CET
DTSTART:20281029T010000
END:STANDARD
END:VTIMEZONE
BEGIN:VEVENT
DTSTART;TZID=Europe/Berlin:20261214T090000
DTEND;TZID=Europe/Berlin:20261214T170000
DTSTAMP:20260422T121100
CREATED:20250912T085327Z
LAST-MODIFIED:20250915T135157Z
UID:10001506-1797238800-1797267600@hsh-lamprecht.de
SUMMARY:Therapie von Oberflächen- und Tiefensensibilitätsstörungen
DESCRIPTION:Hintergrund \nSensibilität ist eine komplexe afferente Sinneswahrnehmung\, durch die der Körper das Gehirn über Empfindungen\, Schmerzen\, die Stellung der Gelenke\, Muskeln und Sehnen informiert. Diese kontinuierliche Rückmeldung ermöglicht die präzise Steuerung von Bewegungsausmaß und benötigter Kraft.\nDer Kurs beleuchtet die neurophysiologischen Grundlagen von Sensibilitätsstörungen und zeigt auf\, bei welchen Krankheitsbildern und Störungen diese auftreten können. Es wird vermittelt\, wie sich Betroffene Kompensationsstrategien aneignen\, wie eine differenzierte Befundung gelingt und welche konkreten Behandlungsansätze für einen langfristigen Therapieerfolg empfohlen werden. Teilnehmende sind nach Abschluss des Kurses in der Lage\, Oberflächen- und Tiefensensibilitätsstörungen präzise zu befunden und effektiv sowie evidenzbasiert zu therapieren. Durch zahlreiche praktische Beispiele sowie konkrete Übungen zu Gleichgewichts-\, Koordinations- und Sensibilitätstraining erhalten Sie gut anwendbares Wissen für den therapeutischen Alltag. \nKursinhalte \n\nNeuroanatomie und Neurophysiologie der Sensibilität\, Propriozeption und des Kleinhirns\nPathophysiologie von Sensibilitätsstörungen\nVorgehen und Prognosen bei verschiedenen neurologischen Erkrankungen\nDiagnostik\, Befundung und Assessments der oberen und unteren Extremität\nWissenschaftlich fundierte Therapieansätze bei Sensibilitätsstörungen\n\n 
URL:https://hsh-lamprecht.de/fortbildung/therapie-von-oberflchen-und-tiefensensibilittsstrungen
LOCATION:Online
CATEGORIES:Eintageskurs
ATTACH;FMTTYPE=image/jpeg:https://hsh-lamprecht.de/wp-content/uploads/2024/10/hsh-lamprecht-fortbildung-sensi-5FpywN.tmp_.jpg
END:VEVENT
BEGIN:VEVENT
DTSTART;TZID=Europe/Berlin:20261215T090000
DTEND;TZID=Europe/Berlin:20261215T170000
DTSTAMP:20260422T121100
CREATED:20250912T085433Z
LAST-MODIFIED:20250915T135133Z
UID:10001507-1797325200-1797354000@hsh-lamprecht.de
SUMMARY:Neurokognitive Störungen differenzieren und gezielt therapieren
DESCRIPTION:Hintergrund \nEin fundiertes Verständnis über neurokognitive Symptome ist für ein gezieltes therapeutisches Vorgehen essenziell. Dieses Wissen bildet eine wichtige Grundlage für die individuelle Therapieplanung. Es ermöglicht ein besseres Verständnis komplexer Zusammenhänge und ist Voraussetzung für ein interdisziplinäres Denken und Handeln im therapeutischen Team. Es wird aufgezeigt\, wie diese neurokognitiven Symptome mit Bereichen wie Psychologie\, Neuropsychologie und Logopädie in Wechselwirkung stehen und welche therapeutischen Ansätze in diesem Kontext besonders relevant sind. Neurokognitive Symptome müssen sehr exakt diagnostiziert werden\, damit sie dann gezielt therapiert werden können. Sowohl PC gesteuertes Screening und Training als auch Alltagsorientierte Therapie werden dargestellt. Wichtig ist auch die Differenzierung\, welche Symptome restaurativ verbessert werden können und bei welchen ein kompensatorischer Therapieansatz Erfolg bringt. \nKursinhalte \nIm Rahmen dieses Kurses werden verschiedene neurokognitive Symptome und Krankheitsbilder vorgestellt\, darunter: \n\nInterdisziplinäres Vorgehen\nVisuelle Symptome- Hemianopsien\nStörungen der Exekutivfunktionen und des Verhaltens\nGedächtnisstörungen\nBeeinträchtigungen der Aufmerksamkeit\nDelir\nNeurokognitive Probleme bei verschiedenen neurologischen Erkrankungen\n\nStörungen der Raumkognition – Neglect und Pusher Syndrom
URL:https://hsh-lamprecht.de/fortbildung/neurokognitive-strungen-differenzieren-und-gezielt-therapieren
LOCATION:Online
CATEGORIES:Eintageskurs
ATTACH;FMTTYPE=image/jpeg:https://hsh-lamprecht.de/wp-content/uploads/2024/10/hsh-lamprecht-fortbildung-neurokognitive-stoerungen-wu1aaZ.tmp_.jpg
END:VEVENT
BEGIN:VEVENT
DTSTART;TZID=Europe/Berlin:20261216T180000
DTEND;TZID=Europe/Berlin:20261216T193000
DTSTAMP:20260422T121100
CREATED:20250912T085434Z
LAST-MODIFIED:20250915T134936Z
UID:10001508-1797444000-1797449400@hsh-lamprecht.de
SUMMARY:Wie motorisches Lernen wirklich funktioniert
DESCRIPTION:Fundiertes Wissen um motorisches Lernen bildet die Grundlage für ein effektives therapeutisches Vorgehen. Erfahren Sie\, wie Sie sich die Prinzipien des motorischen Lernens in der Therapie zu nutzen machen\, sie am besten in effektive und spezifische Übungen umsetzen und damit Ihre Patient:innen motivieren können. Erhalten Sie in 90 Minuten einen Überblick über die wichtigsten Grundlagen\, durch die Sie bereits in die Lage versetzt werden\, den bestmöglichen Therapieerfolg zu erzielen!
URL:https://hsh-lamprecht.de/fortbildung/wie-motorisches-lernen-wirklich-funktioniert
LOCATION:Online
CATEGORIES:WissenToGo
ATTACH;FMTTYPE=image/jpeg:https://hsh-lamprecht.de/wp-content/uploads/2024/10/hsh-lamprecht-fortbildung-wissen2go-mSRnxI.tmp_.jpg
END:VEVENT
BEGIN:VEVENT
DTSTART;TZID=Europe/Berlin:20270502T080000
DTEND;TZID=Europe/Berlin:20270503T170000
DTSTAMP:20260422T121100
CREATED:20260410T150519Z
LAST-MODIFIED:20260420T091110Z
UID:10001516-1809244800-1809363600@hsh-lamprecht.de
SUMMARY:Testkurs 2-Tag
DESCRIPTION:test2tag
URL:https://hsh-lamprecht.de/fortbildung/testkurs-2-tag
LOCATION:Online
CATEGORIES:Zweitageskurs
ATTACH;FMTTYPE=image/jpeg:https://hsh-lamprecht.de/wp-content/uploads/2024/10/hsh-lamprecht-fortbildung-neuroreha-ms-Alum1q.tmp_.jpg
ORGANIZER;CN="Hans-Nikolaj Lamprecht":MAILTO:hn@hsh-lamprecht.de
END:VEVENT
END:VCALENDAR