BEGIN:VCALENDAR
VERSION:2.0
PRODID:-//HSH-Lamprecht - ECPv6.15.18//NONSGML v1.0//EN
CALSCALE:GREGORIAN
METHOD:PUBLISH
X-WR-CALNAME:HSH-Lamprecht
X-ORIGINAL-URL:https://hsh-lamprecht.de
X-WR-CALDESC:Veranstaltungen für HSH-Lamprecht
REFRESH-INTERVAL;VALUE=DURATION:PT1H
X-Robots-Tag:noindex
X-PUBLISHED-TTL:PT1H
BEGIN:VTIMEZONE
TZID:Europe/Berlin
BEGIN:DAYLIGHT
TZOFFSETFROM:+0100
TZOFFSETTO:+0200
TZNAME:CEST
DTSTART:20240331T010000
END:DAYLIGHT
BEGIN:STANDARD
TZOFFSETFROM:+0200
TZOFFSETTO:+0100
TZNAME:CET
DTSTART:20241027T010000
END:STANDARD
BEGIN:DAYLIGHT
TZOFFSETFROM:+0100
TZOFFSETTO:+0200
TZNAME:CEST
DTSTART:20250330T010000
END:DAYLIGHT
BEGIN:STANDARD
TZOFFSETFROM:+0200
TZOFFSETTO:+0100
TZNAME:CET
DTSTART:20251026T010000
END:STANDARD
BEGIN:DAYLIGHT
TZOFFSETFROM:+0100
TZOFFSETTO:+0200
TZNAME:CEST
DTSTART:20260329T010000
END:DAYLIGHT
BEGIN:STANDARD
TZOFFSETFROM:+0200
TZOFFSETTO:+0100
TZNAME:CET
DTSTART:20261025T010000
END:STANDARD
END:VTIMEZONE
BEGIN:VEVENT
DTSTART;TZID=Europe/Berlin:20250910T180000
DTEND;TZID=Europe/Berlin:20250910T193000
DTSTAMP:20260421T122709
CREATED:20250225T121226Z
LAST-MODIFIED:20250430T070524Z
UID:10001364-1757527200-1757532600@hsh-lamprecht.de
SUMMARY:Neue Hoffnung für neurologische Ausfälle: Incedo und FES
DESCRIPTION:Die funktionelle Elektrostimulation hat sich als eine vielversprechende Methode etabliert\, um verlorengegangene Funktionen wiederherzustellen und die Mobilität zu verbessern. „Gerade mit der reflexbasierten und der funktionellen Elektrotherapie erzielen wir zuverlässig Therapieerfolge\, um Patienten zu unterstützen und Bewegungsabläufe durch Training zurückzugewinnen.“ \nIn diesem Kurs werden das Potenzial dieser Methoden sowie deren Wirkungsweise erklärt und anhand von Patientenbeispielen praktisch veranschaulicht.
URL:https://hsh-lamprecht.de/fortbildung/neue-hoffnung-fuer-neurologische-ausfaelle-incedo-und-fes
LOCATION:Online
CATEGORIES:WissenToGo
ATTACH;FMTTYPE=image/jpeg:https://hsh-lamprecht.de/wp-content/uploads/2024/03/hsh-lamprecht-fortbildung-wissen2go.jpeg
ORGANIZER;CN="Patrick Vaz Gomez":MAILTO:pvazgomez@hsh-lamprecht.de
END:VEVENT
END:VCALENDAR