BEGIN:VCALENDAR
VERSION:2.0
PRODID:-//HSH-Lamprecht - ECPv6.15.18//NONSGML v1.0//EN
CALSCALE:GREGORIAN
METHOD:PUBLISH
X-ORIGINAL-URL:https://hsh-lamprecht.de
X-WR-CALDESC:Veranstaltungen für HSH-Lamprecht
REFRESH-INTERVAL;VALUE=DURATION:PT1H
X-Robots-Tag:noindex
X-PUBLISHED-TTL:PT1H
BEGIN:VTIMEZONE
TZID:Europe/Berlin
BEGIN:DAYLIGHT
TZOFFSETFROM:+0100
TZOFFSETTO:+0200
TZNAME:CEST
DTSTART:20250330T010000
END:DAYLIGHT
BEGIN:STANDARD
TZOFFSETFROM:+0200
TZOFFSETTO:+0100
TZNAME:CET
DTSTART:20251026T010000
END:STANDARD
BEGIN:DAYLIGHT
TZOFFSETFROM:+0100
TZOFFSETTO:+0200
TZNAME:CEST
DTSTART:20260329T010000
END:DAYLIGHT
BEGIN:STANDARD
TZOFFSETFROM:+0200
TZOFFSETTO:+0100
TZNAME:CET
DTSTART:20261025T010000
END:STANDARD
BEGIN:DAYLIGHT
TZOFFSETFROM:+0100
TZOFFSETTO:+0200
TZNAME:CEST
DTSTART:20270328T010000
END:DAYLIGHT
BEGIN:STANDARD
TZOFFSETFROM:+0200
TZOFFSETTO:+0100
TZNAME:CET
DTSTART:20271031T010000
END:STANDARD
END:VTIMEZONE
BEGIN:VEVENT
DTSTART;TZID=Europe/Berlin:20261014T180000
DTEND;TZID=Europe/Berlin:20261014T193000
DTSTAMP:20260422T121548
CREATED:20250912T082442Z
LAST-MODIFIED:20250929T084357Z
UID:10001474-1792000800-1792006200@hsh-lamprecht.de
SUMMARY:Return to Sport: Obere Extremität
DESCRIPTION:Der Kurs zeigt\, wie Schulter\, Arm und Hand nach Verletzungen systematisch auf den Wiedereinstieg vorbereitet werden. Im Mittelpunkt stehen Heilungsphasen\, Belastungssteuerung und funktionelle Übungen\, die Athlet:innen sicher und nachhaltig zurück in Training und Wettkampf führen.
URL:https://hsh-lamprecht.de/fortbildung/return-to-sport
LOCATION:Online
CATEGORIES:WissenToGo
ATTACH;FMTTYPE=image/jpeg:https://hsh-lamprecht.de/wp-content/uploads/2024/10/hsh-lamprecht-fortbildung-wissen2go-mSRnxI.tmp_.jpg
END:VEVENT
BEGIN:VEVENT
DTSTART;TZID=Europe/Berlin:20261104T180000
DTEND;TZID=Europe/Berlin:20261104T193000
DTSTAMP:20260422T121548
CREATED:20250912T082844Z
LAST-MODIFIED:20250929T084253Z
UID:10001486-1793815200-1793820600@hsh-lamprecht.de
SUMMARY:Return to Sport: Untere Extremität
DESCRIPTION:Von Hüfte bis Fuß lernst du\, den Rehabilitationsprozess gezielt zu steuern und Belastbarkeit schrittweise aufzubauen. Klare Strukturen\, praxisnahe Trainingsprinzipien und effektive Übungen unterstützen einen sicheren und langfristigen Return to Sport.
URL:https://hsh-lamprecht.de/fortbildung/return-to-sport-2
LOCATION:Online
CATEGORIES:WissenToGo
ATTACH;FMTTYPE=image/jpeg:https://hsh-lamprecht.de/wp-content/uploads/2024/10/hsh-lamprecht-fortbildung-wissen2go-mSRnxI.tmp_.jpg
END:VEVENT
END:VCALENDAR