BEGIN:VCALENDAR
VERSION:2.0
PRODID:-//HSH-Lamprecht - ECPv6.15.18//NONSGML v1.0//EN
CALSCALE:GREGORIAN
METHOD:PUBLISH
X-WR-CALNAME:HSH-Lamprecht
X-ORIGINAL-URL:https://hsh-lamprecht.de
X-WR-CALDESC:Veranstaltungen für HSH-Lamprecht
REFRESH-INTERVAL;VALUE=DURATION:PT1H
X-Robots-Tag:noindex
X-PUBLISHED-TTL:PT1H
BEGIN:VTIMEZONE
TZID:Europe/Berlin
BEGIN:DAYLIGHT
TZOFFSETFROM:+0100
TZOFFSETTO:+0200
TZNAME:CEST
DTSTART:20250330T010000
END:DAYLIGHT
BEGIN:STANDARD
TZOFFSETFROM:+0200
TZOFFSETTO:+0100
TZNAME:CET
DTSTART:20251026T010000
END:STANDARD
BEGIN:DAYLIGHT
TZOFFSETFROM:+0100
TZOFFSETTO:+0200
TZNAME:CEST
DTSTART:20260329T010000
END:DAYLIGHT
BEGIN:STANDARD
TZOFFSETFROM:+0200
TZOFFSETTO:+0100
TZNAME:CET
DTSTART:20261025T010000
END:STANDARD
BEGIN:DAYLIGHT
TZOFFSETFROM:+0100
TZOFFSETTO:+0200
TZNAME:CEST
DTSTART:20270328T010000
END:DAYLIGHT
BEGIN:STANDARD
TZOFFSETFROM:+0200
TZOFFSETTO:+0100
TZNAME:CET
DTSTART:20271031T010000
END:STANDARD
END:VTIMEZONE
BEGIN:VEVENT
DTSTART;TZID=Europe/Berlin:20261010T090000
DTEND;TZID=Europe/Berlin:20261010T170000
DTSTAMP:20260422T163849
CREATED:20250912T083242Z
LAST-MODIFIED:20250926T090247Z
UID:10001493-1791622800-1791651600@hsh-lamprecht.de
SUMMARY:Schwerpunkt Logopädie - Therapie bei ALS
DESCRIPTION:Kursinfos und Anmeldung unter: https://www.loguan.de/seminar_anzeigen.php?kursnr=TL-2610-O
URL:https://hsh-lamprecht.de/fortbildung/schwerpunkt-logopdie-therapie-bei-als
LOCATION:Loguan\, Dreifaltigkeitsweg 13\, Ulm-Wiblingen\, Baden-Württemberg\, 89079\, Deutschland
CATEGORIES:Eintageskurs
ORGANIZER;CN="Ann-Kathrin Lamprecht":MAILTO:info@logo-lamprecht.de
END:VEVENT
BEGIN:VEVENT
DTSTART;TZID=Europe/Berlin:20261016T090000
DTEND;TZID=Europe/Berlin:20261017T153000
DTSTAMP:20260422T163849
CREATED:20250912T082641Z
LAST-MODIFIED:20250926T090144Z
UID:10001477-1792141200-1792251000@hsh-lamprecht.de
SUMMARY:Neurorehabilitation bei Multipler Sklerose
DESCRIPTION:Kursinfos und Anmeldung unter: https://ulmkolleg.net/Kursart/KursID/Neurorehabilitation%20bei%20Multipler%20Sklerose/KursinternID/1270/KursRepGuid/12b99593-d5e7-46ab-9f53-57abc920af89/
URL:https://hsh-lamprecht.de/fortbildung/neurorehabilitation-bei-multipler-sklerose-7
LOCATION:Ulmkolleg\, Oberberghof 5\, Ulm\, Baden-Württemberg\, 89081\, Deutschland
CATEGORIES:Zweitageskurs
ATTACH;FMTTYPE=image/jpeg:https://hsh-lamprecht.de/wp-content/uploads/2024/10/hsh-lamprecht-fortbildung-neuroreha-ms-Alum1q.tmp_.jpg
END:VEVENT
BEGIN:VEVENT
DTSTART;TZID=Europe/Berlin:20261030T090000
DTEND;TZID=Europe/Berlin:20261031T153000
DTSTAMP:20260422T163849
CREATED:20250912T082843Z
LAST-MODIFIED:20250916T120611Z
UID:10001483-1793350800-1793460600@hsh-lamprecht.de
SUMMARY:Update Schlaganfall
DESCRIPTION:Infos und Anmeldung unterhttps://www.fihh.de/erweiterte-kurssuche/kurs/Online-Kurs-Update-Schlaganfall/26-0086#inhalt
URL:https://hsh-lamprecht.de/fortbildung/update-schlaganfall-16
LOCATION:FiHH Online
CATEGORIES:Zweitageskurs
ATTACH;FMTTYPE=image/jpeg:https://hsh-lamprecht.de/wp-content/uploads/2024/10/hsh-lamprecht-fortbildung-update-ODhmvD.tmp_.jpg
END:VEVENT
END:VCALENDAR