BEGIN:VCALENDAR
VERSION:2.0
PRODID:-//HSH-Lamprecht - ECPv6.15.18//NONSGML v1.0//EN
CALSCALE:GREGORIAN
METHOD:PUBLISH
X-ORIGINAL-URL:https://hsh-lamprecht.de
X-WR-CALDESC:Veranstaltungen für HSH-Lamprecht
REFRESH-INTERVAL;VALUE=DURATION:PT1H
X-Robots-Tag:noindex
X-PUBLISHED-TTL:PT1H
BEGIN:VTIMEZONE
TZID:Europe/Berlin
BEGIN:DAYLIGHT
TZOFFSETFROM:+0100
TZOFFSETTO:+0200
TZNAME:CEST
DTSTART:20240331T010000
END:DAYLIGHT
BEGIN:STANDARD
TZOFFSETFROM:+0200
TZOFFSETTO:+0100
TZNAME:CET
DTSTART:20241027T010000
END:STANDARD
BEGIN:DAYLIGHT
TZOFFSETFROM:+0100
TZOFFSETTO:+0200
TZNAME:CEST
DTSTART:20250330T010000
END:DAYLIGHT
BEGIN:STANDARD
TZOFFSETFROM:+0200
TZOFFSETTO:+0100
TZNAME:CET
DTSTART:20251026T010000
END:STANDARD
BEGIN:DAYLIGHT
TZOFFSETFROM:+0100
TZOFFSETTO:+0200
TZNAME:CEST
DTSTART:20260329T010000
END:DAYLIGHT
BEGIN:STANDARD
TZOFFSETFROM:+0200
TZOFFSETTO:+0100
TZNAME:CET
DTSTART:20261025T010000
END:STANDARD
END:VTIMEZONE
BEGIN:VEVENT
DTSTART;TZID=Europe/Berlin:20251101T090000
DTEND;TZID=Europe/Berlin:20251102T153000
DTSTAMP:20260422T155533
CREATED:20250210T171353Z
LAST-MODIFIED:20250225T141619Z
UID:10001323-1761987600-1762097400@hsh-lamprecht.de
SUMMARY:Neurorehabilitation bei MS
DESCRIPTION:Kursinfos und Anmeldung unter: https://www.fobize.de/kurs_detail.php?kennung=106400010
URL:https://hsh-lamprecht.de/fortbildung/neurorehabilitation-bei-ms-20
LOCATION:FoBiZe Bremen\, Westerstraße 35\, Bremen\, 28199\, Deutschland
CATEGORIES:Zweitageskurs
END:VEVENT
BEGIN:VEVENT
DTSTART;TZID=Europe/Berlin:20251103T090000
DTEND;TZID=Europe/Berlin:20251104T153000
DTSTAMP:20260422T155533
CREATED:20250210T171407Z
LAST-MODIFIED:20250314T145302Z
UID:10001324-1762160400-1762270200@hsh-lamprecht.de
SUMMARY:Update Schlaganfall
DESCRIPTION:Kursinfos und Anmeldung unter: https://www.fobize.de/kurs_detail.php?kennung=106650010
URL:https://hsh-lamprecht.de/fortbildung/update-schlaganfall-9
LOCATION:FoBiZe Bremen\, Westerstraße 35\, Bremen\, 28199\, Deutschland
CATEGORIES:Zweitageskurs
ATTACH;FMTTYPE=image/jpeg:https://hsh-lamprecht.de/wp-content/uploads/2024/10/hsh-lamprecht-fortbildung-update-ODhmvD.tmp_.jpg
END:VEVENT
BEGIN:VEVENT
DTSTART;TZID=Europe/Berlin:20251106T090000
DTEND;TZID=Europe/Berlin:20251107T153000
DTSTAMP:20260422T155533
CREATED:20250210T171408Z
LAST-MODIFIED:20250314T145432Z
UID:10001325-1762419600-1762529400@hsh-lamprecht.de
SUMMARY:Neurorehabilitation bei MS
DESCRIPTION:Kursinfos und Anmeldung unter: https://vpt-nordost.de/fort-weiterbildung/fortbildungen/fortbildung-details/multiple-sklerose-3-1-1/
URL:https://hsh-lamprecht.de/fortbildung/neurorehabilitation-bei-ms-21
LOCATION:VPT LG Nord-Ost Hoppegarten\, Rennbahnallee 110\, Hoppegarten\, Brandenburg\, 15366\, Deutschland
CATEGORIES:Zweitageskurs
ATTACH;FMTTYPE=image/jpeg:https://hsh-lamprecht.de/wp-content/uploads/2024/10/hsh-lamprecht-fortbildung-neuroreha-ms-Alum1q.tmp_.jpg
END:VEVENT
BEGIN:VEVENT
DTSTART;TZID=Europe/Berlin:20251107T090000
DTEND;TZID=Europe/Berlin:20251108T153000
DTSTAMP:20260422T155533
CREATED:20250210T171408Z
LAST-MODIFIED:20250314T145458Z
UID:10001326-1762506000-1762615800@hsh-lamprecht.de
SUMMARY:Neurorehabilitation bei MS
DESCRIPTION:Kursinfos und Anmeldung unter: https://ulmkolleg.net/Kursart/KursID/Neurorehabilitation%20bei%20Multipler%20Sklerose/KursinternID/3146/KursRepGuid/9c718177-59b2-4909-9fbc-ef56e3f2224e/
URL:https://hsh-lamprecht.de/fortbildung/neurorehabilitation-bei-ms-22
LOCATION:Ulmkolleg\, Oberberghof 5\, Ulm\, Baden-Württemberg\, 89081\, Deutschland
CATEGORIES:Zweitageskurs
ATTACH;FMTTYPE=image/jpeg:https://hsh-lamprecht.de/wp-content/uploads/2024/10/hsh-lamprecht-fortbildung-neuroreha-ms-Alum1q.tmp_.jpg
END:VEVENT
BEGIN:VEVENT
DTSTART;TZID=Europe/Berlin:20251108T090000
DTEND;TZID=Europe/Berlin:20251109T153000
DTSTAMP:20260422T155533
CREATED:20250210T175720Z
LAST-MODIFIED:20250314T145823Z
UID:10001360-1762592400-1762702200@hsh-lamprecht.de
SUMMARY:Effektive „Übungen“ in der Neurologie und Geriatrie
DESCRIPTION:Kursinfos und Anmeldung unter: https://vpt-nordost.de/fort-weiterbildung/fortbildungen/fortbildung-details/neurologie-und-geriatrie-1-1-2/
URL:https://hsh-lamprecht.de/fortbildung/effektive-uebungen-in-der-neurologie-und-geriatrie-24
LOCATION:VPT LG Nord-Ost Hoppegarten\, Rennbahnallee 110\, Hoppegarten\, Brandenburg\, 15366\, Deutschland
CATEGORIES:Zweitageskurs
ATTACH;FMTTYPE=image/jpeg:https://hsh-lamprecht.de/wp-content/uploads/2024/03/hsh-lamprecht-fortbildung-uebungen.jpg
END:VEVENT
BEGIN:VEVENT
DTSTART;TZID=Europe/Berlin:20251111T090000
DTEND;TZID=Europe/Berlin:20251111T170000
DTSTAMP:20260422T155533
CREATED:20250210T175731Z
LAST-MODIFIED:20251031T083631Z
UID:10001361-1762851600-1762880400@hsh-lamprecht.de
SUMMARY:Ganganalyse und gezielte Gangtherapie in der Neurologie/Geriatrie
DESCRIPTION:Kursinfos und Anmeldung unter: https://bay.physio-deutschland.de/landesverband-bayern/fortbildungen/details/seminar/evidenzbasierte-ganganalyse-und-gangtherapie-in-der-neurologie/geriatrie-1.html
URL:https://hsh-lamprecht.de/fortbildung/ganganalyse-und-gezielte-gantherapie-in-der-neurologie-geriatrie
LOCATION:Physio Deutschland LV Bayern\, Leibstraße 24\, Haar\, Bayern\, 85540
CATEGORIES:Eintageskurs
ATTACH;FMTTYPE=image/jpeg:https://hsh-lamprecht.de/wp-content/uploads/2024/10/hsh-lamprecht-fortbildung-evidenzbasierte-gangtherapie-nNdia5.tmp_.jpg
END:VEVENT
BEGIN:VEVENT
DTSTART;TZID=Europe/Berlin:20251118T090000
DTEND;TZID=Europe/Berlin:20251118T170000
DTSTAMP:20260422T155533
CREATED:20250210T171422Z
LAST-MODIFIED:20250314T145943Z
UID:10001329-1763456400-1763485200@hsh-lamprecht.de
SUMMARY:Therapie bei ALS (Amyotropher Lateralsklerose)
DESCRIPTION:
URL:https://hsh-lamprecht.de/fortbildung/therapie-bei-als-amyotropher-lateralsklerose-12
LOCATION:Online
CATEGORIES:Eintageskurs
ATTACH;FMTTYPE=image/jpeg:https://hsh-lamprecht.de/wp-content/uploads/2024/10/hsh-lamprecht-fortbildung-als-snU0gD.tmp_.jpg
END:VEVENT
BEGIN:VEVENT
DTSTART;TZID=Europe/Berlin:20251121T090000
DTEND;TZID=Europe/Berlin:20251121T170000
DTSTAMP:20260422T155533
CREATED:20250210T175732Z
LAST-MODIFIED:20250314T150145Z
UID:10001362-1763715600-1763744400@hsh-lamprecht.de
SUMMARY:Therapie der oberen Extremität in der Neurologie/Geriatrie
DESCRIPTION:Kursinfos und Anmeldung unter: https://ulmkolleg.net/Kursart/KursID/Therapie%20der%20oberen%20Extremit%c3%a4t%20in%20der%20Neurologie/KursinternID/3159/KursRepGuid/4affc8d9-514f-4ab5-af8b-386b09fa24fb/
URL:https://hsh-lamprecht.de/fortbildung/therapie-der-oberen-extremitaet-in-der-neurologie-geriatrie
LOCATION:Ulmkolleg\, Oberberghof 5\, Ulm\, Baden-Württemberg\, 89081\, Deutschland
CATEGORIES:Eintageskurs
ATTACH;FMTTYPE=image/jpeg:https://hsh-lamprecht.de/wp-content/uploads/2024/10/hsh-lamprecht-fortbildung-obere-extremitaet-3mlGdB.tmp_.jpg
END:VEVENT
BEGIN:VEVENT
DTSTART;TZID=Europe/Berlin:20251121T090000
DTEND;TZID=Europe/Berlin:20251122T153000
DTSTAMP:20260422T155533
CREATED:20250210T171422Z
LAST-MODIFIED:20250314T150026Z
UID:10001330-1763715600-1763825400@hsh-lamprecht.de
SUMMARY:Update Schlaganfall
DESCRIPTION:Kursinfos und Anmeldung unter: https://www.fobize.de/kurs_detail.php?kennung=106650010
URL:https://hsh-lamprecht.de/fortbildung/update-schlaganfall-10
LOCATION:FoBiZe Kassel\, Friedrich-Ebert-Straße 10\, Kassel\, 34117\, Germany
CATEGORIES:Zweitageskurs
ATTACH;FMTTYPE=image/jpeg:https://hsh-lamprecht.de/wp-content/uploads/2024/10/hsh-lamprecht-fortbildung-update-ODhmvD.tmp_.jpg
END:VEVENT
BEGIN:VEVENT
DTSTART;TZID=Europe/Berlin:20251122T090000
DTEND;TZID=Europe/Berlin:20251122T170000
DTSTAMP:20260422T155533
CREATED:20250210T171423Z
LAST-MODIFIED:20250314T150050Z
UID:10001332-1763802000-1763830800@hsh-lamprecht.de
SUMMARY:Ataxie - effektiv therapieren
DESCRIPTION:Kursinfos und Anmeldung unter: https://ulmkolleg.net/Kursart/KursID/Ataxie%20-%20Effektiv%20behandeln/KursinternID/3038/KursRepGuid/a3eab814-7f9b-49cf-a086-37f08500223b/
URL:https://hsh-lamprecht.de/fortbildung/ataxie-effektiv-therapieren-14
LOCATION:Ulmkolleg\, Oberberghof 5\, Ulm\, Baden-Württemberg\, 89081\, Deutschland
CATEGORIES:Eintageskurs
ATTACH;FMTTYPE=image/jpeg:https://hsh-lamprecht.de/wp-content/uploads/2024/10/hsh-lamprecht-fortbildung-ataxie-PoNd52.tmp_.jpg
END:VEVENT
BEGIN:VEVENT
DTSTART;TZID=Europe/Berlin:20251123T090000
DTEND;TZID=Europe/Berlin:20251123T170000
DTSTAMP:20260422T155533
CREATED:20250210T171423Z
LAST-MODIFIED:20250314T150132Z
UID:10001333-1763888400-1763917200@hsh-lamprecht.de
SUMMARY:Spiegeltherapie
DESCRIPTION:Kursinfos und Anmeldung unter: https://www.fobize.de/kurs_detail.php?kennung=106750020&ort=2
URL:https://hsh-lamprecht.de/fortbildung/spiegeltherapie-19
LOCATION:FoBiZe Kassel\, Friedrich-Ebert-Straße 10\, Kassel\, 34117\, Germany
CATEGORIES:Eintageskurs
ATTACH;FMTTYPE=image/jpeg:https://hsh-lamprecht.de/wp-content/uploads/2024/10/hsh-lamprecht-fortbildung-spiegeltherapie-Tzq2k8.tmp_.jpg
END:VEVENT
END:VCALENDAR