BEGIN:VCALENDAR
VERSION:2.0
PRODID:-//HSH-Lamprecht - ECPv6.15.18//NONSGML v1.0//EN
CALSCALE:GREGORIAN
METHOD:PUBLISH
X-WR-CALNAME:HSH-Lamprecht
X-ORIGINAL-URL:https://hsh-lamprecht.de
X-WR-CALDESC:Veranstaltungen für HSH-Lamprecht
REFRESH-INTERVAL;VALUE=DURATION:PT1H
X-Robots-Tag:noindex
X-PUBLISHED-TTL:PT1H
BEGIN:VTIMEZONE
TZID:Europe/Berlin
BEGIN:DAYLIGHT
TZOFFSETFROM:+0100
TZOFFSETTO:+0200
TZNAME:CEST
DTSTART:20240331T010000
END:DAYLIGHT
BEGIN:STANDARD
TZOFFSETFROM:+0200
TZOFFSETTO:+0100
TZNAME:CET
DTSTART:20241027T010000
END:STANDARD
BEGIN:DAYLIGHT
TZOFFSETFROM:+0100
TZOFFSETTO:+0200
TZNAME:CEST
DTSTART:20250330T010000
END:DAYLIGHT
BEGIN:STANDARD
TZOFFSETFROM:+0200
TZOFFSETTO:+0100
TZNAME:CET
DTSTART:20251026T010000
END:STANDARD
BEGIN:DAYLIGHT
TZOFFSETFROM:+0100
TZOFFSETTO:+0200
TZNAME:CEST
DTSTART:20260329T010000
END:DAYLIGHT
BEGIN:STANDARD
TZOFFSETFROM:+0200
TZOFFSETTO:+0100
TZNAME:CET
DTSTART:20261025T010000
END:STANDARD
END:VTIMEZONE
BEGIN:VEVENT
DTSTART;TZID=Europe/Berlin:20250901T090000
DTEND;TZID=Europe/Berlin:20250901T170000
DTSTAMP:20260422T193649
CREATED:20250210T171158Z
LAST-MODIFIED:20250307T130904Z
UID:10001296-1756717200-1756746000@hsh-lamprecht.de
SUMMARY:Spiegeltherapie
DESCRIPTION:Kursinfos und Anmeldung unter: https://nrw.physio-deutschland.de/landesverband-nrw/fortbildungen/details/seminar/neurorehabilitation-bei-multipler-sklerose-1-1-2-1-2-1-1-2.html
URL:https://hsh-lamprecht.de/fortbildung/spiegeltherapie-16
LOCATION:Physio Deutschland LV NRW Bochum\, Castroper Hellweg 49\, Bochum\, 44805\, Germany
CATEGORIES:Eintageskurs
ATTACH;FMTTYPE=image/jpeg:https://hsh-lamprecht.de/wp-content/uploads/2024/10/hsh-lamprecht-fortbildung-spiegeltherapie-Tzq2k8.tmp_.jpg
END:VEVENT
BEGIN:VEVENT
DTSTART;TZID=Europe/Berlin:20250902T090000
DTEND;TZID=Europe/Berlin:20250902T170000
DTSTAMP:20260422T193649
CREATED:20250210T171158Z
LAST-MODIFIED:20250307T130935Z
UID:10001297-1756803600-1756832400@hsh-lamprecht.de
SUMMARY:Neuroreha bei M. Parkinson
DESCRIPTION:Kursinfos und Anmeldung unter: https://nrw.physio-deutschland.de/landesverband-nrw/fortbildungen/details/seminar/neurorehabilitation-bei-multipler-sklerose-1-1-2-1-2-1-1-1-1-1-1.html
URL:https://hsh-lamprecht.de/fortbildung/neuroreha-bei-m-parkinson-13
LOCATION:Physio Deutschland LV NRW Bochum\, Castroper Hellweg 49\, Bochum\, 44805\, Germany
CATEGORIES:Eintageskurs
ATTACH;FMTTYPE=image/jpeg:https://hsh-lamprecht.de/wp-content/uploads/2024/10/hsh-lamprecht-fortbildung-neuroreha-parkinson-5g4vhr.tmp_.jpg
END:VEVENT
BEGIN:VEVENT
DTSTART;TZID=Europe/Berlin:20250903T090000
DTEND;TZID=Europe/Berlin:20250903T170000
DTSTAMP:20260422T193649
CREATED:20250210T175605Z
LAST-MODIFIED:20250307T130958Z
UID:10001354-1756890000-1756918800@hsh-lamprecht.de
SUMMARY:Spiegeltherapie bei Phantomschmerz - CRPS und Schlaganfall
DESCRIPTION:Kursinfos und Anmeldung unter: https://i-t-f.de/kursangebot/?kursid=3546
URL:https://hsh-lamprecht.de/fortbildung/spiegeltherapie-bei-phantomschmerz-crps-und-schlaganfall-4
LOCATION:ITF Münster\, Dieckstraße 75\, Münster\, Nordrhein-Westfalen\, 48145\, Deutschland
CATEGORIES:Eintageskurs
ATTACH;FMTTYPE=image/jpeg:https://hsh-lamprecht.de/wp-content/uploads/2024/10/hsh-lamprecht-fortbildung-spiegeltherapie-Tzq2k8.tmp_.jpg
END:VEVENT
BEGIN:VEVENT
DTSTART;TZID=Europe/Berlin:20250904T090000
DTEND;TZID=Europe/Berlin:20250905T153000
DTSTAMP:20260422T193649
CREATED:20250210T171252Z
LAST-MODIFIED:20250307T131026Z
UID:10001299-1756976400-1757086200@hsh-lamprecht.de
SUMMARY:Update Schlaganfall
DESCRIPTION:Kursinfos und Anmeldung unter: https://i-t-f.de/kursangebot/?kursid=3545
URL:https://hsh-lamprecht.de/fortbildung/update-schlaganfall-6
LOCATION:ITF Münster\, Dieckstraße 75\, Münster\, Nordrhein-Westfalen\, 48145\, Deutschland
CATEGORIES:Zweitageskurs
ATTACH;FMTTYPE=image/jpeg:https://hsh-lamprecht.de/wp-content/uploads/2024/10/hsh-lamprecht-fortbildung-update-ODhmvD.tmp_.jpg
END:VEVENT
BEGIN:VEVENT
DTSTART;TZID=Europe/Berlin:20250907T090000
DTEND;TZID=Europe/Berlin:20250907T170000
DTSTAMP:20260422T193649
CREATED:20250210T171252Z
LAST-MODIFIED:20250307T131056Z
UID:10001300-1757235600-1757264400@hsh-lamprecht.de
SUMMARY:Evidenzbasierte Ganganalyse und Gangtherapie in der Neurologie/Geriatrie
DESCRIPTION:Kursinfos und Anmeldung unter: https://www.physio-zentrum.at/kurs/evidenzbasierte-ganganalyse-gangtherapie-in-der-neurologie-und-geriatrie/
URL:https://hsh-lamprecht.de/fortbildung/evidenzbasierte-ganganalyse-und-gangtherapie-in-der-neurologie-geriatrie-11
LOCATION:Physiozentrum für Weiterbildungen Wien\, Mariannengasse 14\, Wien\, 1090\, Österreich
CATEGORIES:Eintageskurs
ATTACH;FMTTYPE=image/jpeg:https://hsh-lamprecht.de/wp-content/uploads/2024/10/hsh-lamprecht-fortbildung-evidenzbasierte-gangtherapie-nNdia5.tmp_.jpg
END:VEVENT
BEGIN:VEVENT
DTSTART;TZID=Europe/Berlin:20250907T090000
DTEND;TZID=Europe/Berlin:20250908T153000
DTSTAMP:20260422T193649
CREATED:20250210T171253Z
LAST-MODIFIED:20250307T131126Z
UID:10001301-1757235600-1757345400@hsh-lamprecht.de
SUMMARY:Training in der Neurologie und Geriatrie
DESCRIPTION:Kursinfos und Anmeldung unter: https://www.physio-zentrum.at/kurs/training-in-der-neurologie-und-geriatrie/
URL:https://hsh-lamprecht.de/fortbildung/training-in-der-neurologie-und-geriatrie-7
LOCATION:Physiozentrum für Weiterbildungen Wien\, Mariannengasse 14\, Wien\, 1090\, Österreich
CATEGORIES:Zweitageskurs
ATTACH;FMTTYPE=image/jpeg:https://hsh-lamprecht.de/wp-content/uploads/2024/10/hsh-lamprecht-fortbildung-training-neurologie-oY77w7.tmp_.jpg
END:VEVENT
BEGIN:VEVENT
DTSTART;TZID=Europe/Berlin:20250908T090000
DTEND;TZID=Europe/Berlin:20250908T170000
DTSTAMP:20260422T193649
CREATED:20250210T171253Z
LAST-MODIFIED:20250307T131157Z
UID:10001302-1757322000-1757350800@hsh-lamprecht.de
SUMMARY:Neuroreha bei M.Parkinson
DESCRIPTION:Kursinfos und Anmeldung unter: https://www.physio-zentrum.at/kurs/neurorehabilitation-bei-parkinson/
URL:https://hsh-lamprecht.de/fortbildung/neuroreha-bei-m-parkinson-14
LOCATION:Physiozentrum für Weiterbildungen Wien\, Mariannengasse 14\, Wien\, 1090\, Österreich
CATEGORIES:Eintageskurs
ATTACH;FMTTYPE=image/jpeg:https://hsh-lamprecht.de/wp-content/uploads/2024/10/hsh-lamprecht-fortbildung-neuroreha-parkinson-5g4vhr.tmp_.jpg
END:VEVENT
BEGIN:VEVENT
DTSTART;TZID=Europe/Berlin:20250909T090000
DTEND;TZID=Europe/Berlin:20250909T170000
DTSTAMP:20260422T193649
CREATED:20250210T171253Z
LAST-MODIFIED:20250307T131251Z
UID:10001303-1757408400-1757437200@hsh-lamprecht.de
SUMMARY:Querschnitt Therapie - Neurorehabilitation bei Querschnittsyndromen
DESCRIPTION:Kursinfos und Anmeldung unter: https://www.physio-zentrum.at/kurs/querschnitt-therapie-neurorehabilitation-bei-querschnittsyndromen/
URL:https://hsh-lamprecht.de/fortbildung/querschnitt-therapie-neurorehabilitation-bei-querschnittsyndromen
LOCATION:Physiozentrum für Weiterbildungen Wien\, Mariannengasse 14\, Wien\, 1090\, Österreich
CATEGORIES:Eintageskurs
ATTACH;FMTTYPE=image/jpeg:https://hsh-lamprecht.de/wp-content/uploads/2024/10/hsh-lamprecht-fortbildung-querschnitt-jRh1yJ.tmp_.jpg
END:VEVENT
BEGIN:VEVENT
DTSTART;TZID=Europe/Berlin:20250909T090000
DTEND;TZID=Europe/Berlin:20250910T153000
DTSTAMP:20260422T193649
CREATED:20250210T175620Z
LAST-MODIFIED:20250307T131440Z
UID:10001355-1757408400-1757518200@hsh-lamprecht.de
SUMMARY:Effektive „Übungen“ in der Neurologie und Geriatrie
DESCRIPTION:Kursinfos und Anmeldung unter: https://www.physio-zentrum.at/kurs/effektive-uebungen-in-der-neurologie-und-geriatrie/
URL:https://hsh-lamprecht.de/fortbildung/effektive-uebungen-in-der-neurologie-und-geriatrie-23
LOCATION:Physiozentrum für Weiterbildungen Wien\, Mariannengasse 14\, Wien\, 1090\, Österreich
CATEGORIES:Zweitageskurs
ATTACH;FMTTYPE=image/jpeg:https://hsh-lamprecht.de/wp-content/uploads/2024/03/hsh-lamprecht-fortbildung-uebungen.jpg
END:VEVENT
BEGIN:VEVENT
DTSTART;TZID=Europe/Berlin:20250910T090000
DTEND;TZID=Europe/Berlin:20250910T170000
DTSTAMP:20260422T193649
CREATED:20250210T171307Z
LAST-MODIFIED:20250307T131504Z
UID:10001305-1757494800-1757523600@hsh-lamprecht.de
SUMMARY:Spiegeltherapie
DESCRIPTION:Kursinfos und Anmeldung unter: https://www.physio-zentrum.at/kurs/spiegeltherapie/
URL:https://hsh-lamprecht.de/fortbildung/spiegeltherapie-17
LOCATION:Physiozentrum für Weiterbildungen Wien\, Mariannengasse 14\, Wien\, 1090\, Österreich
CATEGORIES:Eintageskurs
ATTACH;FMTTYPE=image/jpeg:https://hsh-lamprecht.de/wp-content/uploads/2024/10/hsh-lamprecht-fortbildung-spiegeltherapie-Tzq2k8.tmp_.jpg
END:VEVENT
BEGIN:VEVENT
DTSTART;TZID=Europe/Berlin:20250916T090000
DTEND;TZID=Europe/Berlin:20250916T170000
DTSTAMP:20260422T193649
CREATED:20250210T171308Z
LAST-MODIFIED:20250407T150625Z
UID:10001307-1758013200-1758042000@hsh-lamprecht.de
SUMMARY:Polyneuropathie effektiv therapieren
DESCRIPTION:Infos und Anmeldung unter: https://bay.physio-deutschland.de/landesverband-bayern/fortbildungen/details/seminar/polyneuropathie-effektiv-therapieren.html
URL:https://hsh-lamprecht.de/fortbildung/polyneuropathie-effektiv-therapieren-2
LOCATION:Online
CATEGORIES:Eintageskurs
ATTACH;FMTTYPE=image/jpeg:https://hsh-lamprecht.de/wp-content/uploads/2024/10/hsh-lamprecht-fortbildung-polyneuropathie-q2w6fH.tmp_.jpg
END:VEVENT
BEGIN:VEVENT
DTSTART;TZID=Europe/Berlin:20250919T090000
DTEND;TZID=Europe/Berlin:20250919T170000
DTSTAMP:20260422T193649
CREATED:20250210T171308Z
LAST-MODIFIED:20250314T143949Z
UID:10001308-1758272400-1758301200@hsh-lamprecht.de
SUMMARY:Demenzen erkennen und behandeln
DESCRIPTION:Kursinfos und Anmeldung unter: https://ulmkolleg.net/Kursart/KursID/Demenz%20erkennen%20und%20behandeln/KursinternID/2706/KursRepGuid/84fda6eb-459d-455b-a222-7edf9b75a278/
URL:https://hsh-lamprecht.de/fortbildung/demenzen-erkennen-und-behandeln-6
LOCATION:Ulmkolleg\, Oberberghof 5\, Ulm\, Baden-Württemberg\, 89081\, Deutschland
CATEGORIES:Eintageskurs
ATTACH;FMTTYPE=image/jpeg:https://hsh-lamprecht.de/wp-content/uploads/2024/10/hsh-lamprecht-fortbildung-demenz-yBpd2l.tmp_.jpg
END:VEVENT
BEGIN:VEVENT
DTSTART;TZID=Europe/Berlin:20250923T090000
DTEND;TZID=Europe/Berlin:20250923T170000
DTSTAMP:20260422T193649
CREATED:20250210T171322Z
LAST-MODIFIED:20250314T144043Z
UID:10001309-1758618000-1758646800@hsh-lamprecht.de
SUMMARY:Gangtherapie und Ganganalyse in der Neurologie/Geriatrie
DESCRIPTION:Kursinfos und Anmeldung unter: https://app.seminarmanagercloud.de/m000381/buchungsportal/evidenzbasierte-gangtherapie-und-ganganalyse-in-der-neurologiegeriatrie-d9cf6c929f85444181ce8992290d07e5
URL:https://hsh-lamprecht.de/fortbildung/gangtherapie-und-ganganalyse-in-der-neurologie-geriatrie-6
LOCATION:Fortbildungsinstitut Waldenburg\, Eichenstraße 13\, Waldenburg\, 74638\, Germany
CATEGORIES:Eintageskurs
ATTACH;FMTTYPE=image/jpeg:https://hsh-lamprecht.de/wp-content/uploads/2024/10/hsh-lamprecht-fortbildung-evidenzbasierte-gangtherapie-nNdia5.tmp_.jpg
END:VEVENT
BEGIN:VEVENT
DTSTART;TZID=Europe/Berlin:20250925T090000
DTEND;TZID=Europe/Berlin:20250926T153000
DTSTAMP:20260422T193649
CREATED:20250210T171322Z
LAST-MODIFIED:20250314T144130Z
UID:10001310-1758790800-1758900600@hsh-lamprecht.de
SUMMARY:Neurorehabilitation bei MS
DESCRIPTION:Kursinfos und Anmeldung unter: https://bay.physio-deutschland.de/landesverband-bayern/fortbildungen/details/seminar/neuroreha-bei-multiple-sklerose-3.html
URL:https://hsh-lamprecht.de/fortbildung/neurorehabilitation-bei-ms-19
LOCATION:Physio Deutschland LV Bayern (TTZ Friedberg)\, Thomas-Dölle-Str. 20\, Friedberg\, 86316\, Germany
CATEGORIES:Zweitageskurs
ATTACH;FMTTYPE=image/jpeg:https://hsh-lamprecht.de/wp-content/uploads/2024/10/hsh-lamprecht-fortbildung-neuroreha-ms-Alum1q.tmp_.jpg
END:VEVENT
BEGIN:VEVENT
DTSTART;TZID=Europe/Berlin:20250927T090000
DTEND;TZID=Europe/Berlin:20250928T153000
DTSTAMP:20260422T193649
CREATED:20250210T171322Z
LAST-MODIFIED:20250314T144312Z
UID:10001311-1758963600-1759073400@hsh-lamprecht.de
SUMMARY:Training in der Neurologie und Geriatrie
DESCRIPTION:Kursinfos und Anmeldung unter: https://www.fobize.de/kurs_detail.php?kennung=106840010&ort=1
URL:https://hsh-lamprecht.de/fortbildung/training-in-der-neurologie-und-geriatrie-8
LOCATION:FoBiZe Bremen\, Westerstraße 35\, Bremen\, 28199\, Deutschland
CATEGORIES:Zweitageskurs
ATTACH;FMTTYPE=image/jpeg:https://hsh-lamprecht.de/wp-content/uploads/2024/10/hsh-lamprecht-fortbildung-training-neurologie-oY77w7.tmp_.jpg
END:VEVENT
BEGIN:VEVENT
DTSTART;TZID=Europe/Berlin:20250929T090000
DTEND;TZID=Europe/Berlin:20250929T170000
DTSTAMP:20260422T193649
CREATED:20250210T171323Z
LAST-MODIFIED:20250225T135835Z
UID:10001312-1759136400-1759165200@hsh-lamprecht.de
SUMMARY:Effektiv Befunden in der Neurologie
DESCRIPTION:Kursinfos und Anmeldung unter: https://www.fobize.de/kurs_detail.php?kennung=106051010
URL:https://hsh-lamprecht.de/fortbildung/befund
LOCATION:FoBiZe Bremen\, Westerstraße 35\, Bremen\, 28199\, Deutschland
CATEGORIES:Eintageskurs
END:VEVENT
BEGIN:VEVENT
DTSTART;TZID=Europe/Berlin:20250929T090000
DTEND;TZID=Europe/Berlin:20250929T170000
DTSTAMP:20260422T193649
CREATED:20250210T175650Z
LAST-MODIFIED:20250314T144529Z
UID:10001356-1759136400-1759165200@hsh-lamprecht.de
SUMMARY:Update Spastik - Ursache - Therapie - Evidenz
DESCRIPTION:
URL:https://hsh-lamprecht.de/fortbildung/update-spastik-ursache-therapie-evidenz-7
LOCATION:Online
CATEGORIES:Eintageskurs
ATTACH;FMTTYPE=image/jpeg:https://hsh-lamprecht.de/wp-content/uploads/2024/10/hsh-lamprecht-fortbildung-update-ODhmvD.tmp_.jpg
END:VEVENT
END:VCALENDAR