BEGIN:VCALENDAR
VERSION:2.0
PRODID:-//HSH-Lamprecht - ECPv6.15.18//NONSGML v1.0//EN
CALSCALE:GREGORIAN
METHOD:PUBLISH
X-ORIGINAL-URL:https://hsh-lamprecht.de
X-WR-CALDESC:Veranstaltungen für HSH-Lamprecht
REFRESH-INTERVAL;VALUE=DURATION:PT1H
X-Robots-Tag:noindex
X-PUBLISHED-TTL:PT1H
BEGIN:VTIMEZONE
TZID:Europe/Berlin
BEGIN:DAYLIGHT
TZOFFSETFROM:+0100
TZOFFSETTO:+0200
TZNAME:CEST
DTSTART:20240331T010000
END:DAYLIGHT
BEGIN:STANDARD
TZOFFSETFROM:+0200
TZOFFSETTO:+0100
TZNAME:CET
DTSTART:20241027T010000
END:STANDARD
BEGIN:DAYLIGHT
TZOFFSETFROM:+0100
TZOFFSETTO:+0200
TZNAME:CEST
DTSTART:20250330T010000
END:DAYLIGHT
BEGIN:STANDARD
TZOFFSETFROM:+0200
TZOFFSETTO:+0100
TZNAME:CET
DTSTART:20251026T010000
END:STANDARD
BEGIN:DAYLIGHT
TZOFFSETFROM:+0100
TZOFFSETTO:+0200
TZNAME:CEST
DTSTART:20260329T010000
END:DAYLIGHT
BEGIN:STANDARD
TZOFFSETFROM:+0200
TZOFFSETTO:+0100
TZNAME:CET
DTSTART:20261025T010000
END:STANDARD
END:VTIMEZONE
BEGIN:VEVENT
DTSTART;TZID=Europe/Berlin:20250603T090000
DTEND;TZID=Europe/Berlin:20250603T170000
DTSTAMP:20260424T120905
CREATED:20250210T170742Z
LAST-MODIFIED:20250307T094650Z
UID:10001251-1748941200-1748970000@hsh-lamprecht.de
SUMMARY:Gleichgewicht in Therapie und Training
DESCRIPTION:Kursinfos und Anmeldung unter: https://bay.physio-deutschland.de/landesverband-bayern/fortbildungen/details/seminar/effektives-gleichgewichtstraining-1.html
URL:https://hsh-lamprecht.de/fortbildung/gleichgewicht-in-therapie-und-training
LOCATION:Physio Deutschland LV Bayern\, Leibstraße 24\, Haar\, Bayern\, 85540
CATEGORIES:Eintageskurs
ATTACH;FMTTYPE=image/jpeg:https://hsh-lamprecht.de/wp-content/uploads/2024/10/hsh-lamprecht-fortbildung-gleichgewicht-sturzprophylaxe-1afOWm.tmp_.jpg
END:VEVENT
BEGIN:VEVENT
DTSTART;TZID=Europe/Berlin:20250605T090000
DTEND;TZID=Europe/Berlin:20250606T153000
DTSTAMP:20260424T120905
CREATED:20250210T170743Z
LAST-MODIFIED:20250307T103520Z
UID:10001253-1749114000-1749223800@hsh-lamprecht.de
SUMMARY:Neuro - praktisch
DESCRIPTION:Kursinfos und Anmeldung unter: https://tfz-hassfurt.de/neuro-praktisch-neurologische-patienten-therapieren/
URL:https://hsh-lamprecht.de/fortbildung/neuro-praktisch
LOCATION:Therapeutisches Fortbildungszentrum Haßfurt\, Hofheimer Straße 63\, Haßfurt\, 97437\, Germany
CATEGORIES:Zweitageskurs
ATTACH;FMTTYPE=image/jpeg:https://hsh-lamprecht.de/wp-content/uploads/2024/10/hsh-lamprecht-fortbildung-neuroreha-praktisch-wB8ett.tmp_.jpg
END:VEVENT
BEGIN:VEVENT
DTSTART;TZID=Europe/Berlin:20250612T090000
DTEND;TZID=Europe/Berlin:20250612T170000
DTSTAMP:20260424T120905
CREATED:20250210T170757Z
LAST-MODIFIED:20250307T095525Z
UID:10001254-1749718800-1749747600@hsh-lamprecht.de
SUMMARY:Effektiv befunden in der Neurologie
DESCRIPTION:Kursinfos und Anmeldung unter: https://www.fbz-klagenfurt.at/lehrgaenge/detail/effektiv-befunden-in-der-neurologie-geriatrie
URL:https://hsh-lamprecht.de/fortbildung/effektiv-befunden-in-der-neurologie-2
LOCATION:FBZ Klagenfurt\, Waaggasse 18\, Klagenfurt\, 9020\, Österreich
CATEGORIES:Eintageskurs
ATTACH;FMTTYPE=image/jpeg:https://hsh-lamprecht.de/wp-content/uploads/2024/03/hsh-lamprecht-fortbildung-effektiv-therapieren.jpg
END:VEVENT
BEGIN:VEVENT
DTSTART;TZID=Europe/Berlin:20250612T090000
DTEND;TZID=Europe/Berlin:20250612T170000
DTSTAMP:20260424T120905
CREATED:20250210T170758Z
LAST-MODIFIED:20250307T095618Z
UID:10001255-1749718800-1749747600@hsh-lamprecht.de
SUMMARY:Gangtherapie und Ganganalyse in der Neurologie/Geriatrie
DESCRIPTION:Kursinfos und Anmeldung unter: https://www.fbz-klagenfurt.at/lehrgaenge/detail/gangtherapie-und-ganganalyse-in-der-neurologie-geriatrie
URL:https://hsh-lamprecht.de/fortbildung/gangtherapie-und-ganganalyse-in-der-neurologie-geriatrie-4
LOCATION:FBZ Klagenfurt\, Waaggasse 18\, Klagenfurt\, 9020\, Österreich
CATEGORIES:Eintageskurs
ATTACH;FMTTYPE=image/jpeg:https://hsh-lamprecht.de/wp-content/uploads/2024/03/hsh-lamprecht-fortbildung-evidenzbasierte-gangtherapie.jpg
END:VEVENT
BEGIN:VEVENT
DTSTART;TZID=Europe/Berlin:20250613T090000
DTEND;TZID=Europe/Berlin:20250613T170000
DTSTAMP:20260424T120905
CREATED:20250210T170758Z
LAST-MODIFIED:20250307T095653Z
UID:10001256-1749805200-1749834000@hsh-lamprecht.de
SUMMARY:Spiegeltherapie
DESCRIPTION:Kursinfos und Anmeldung unter: https://www.fbz-klagenfurt.at/lehrgaenge/detail/spiegeltherapie
URL:https://hsh-lamprecht.de/fortbildung/spiegeltherapie-12
LOCATION:FBZ Klagenfurt\, Waaggasse 18\, Klagenfurt\, 9020\, Österreich
CATEGORIES:Eintageskurs
ATTACH;FMTTYPE=image/jpeg:https://hsh-lamprecht.de/wp-content/uploads/2024/10/hsh-lamprecht-fortbildung-spiegeltherapie-Tzq2k8.tmp_.jpg
END:VEVENT
BEGIN:VEVENT
DTSTART;TZID=Europe/Berlin:20250613T090000
DTEND;TZID=Europe/Berlin:20250615T153000
DTSTAMP:20260424T120905
CREATED:20250210T170758Z
LAST-MODIFIED:20250307T095720Z
UID:10001257-1749805200-1750001400@hsh-lamprecht.de
SUMMARY:Neuro - praktisch
DESCRIPTION:Kursinfos und Anmeldung unter: https://www.fbz-klagenfurt.at/lehrgaenge/detail/neuro-praktisch-neurologische-patienten-therapieren
URL:https://hsh-lamprecht.de/fortbildung/neuro-praktisch-2
LOCATION:FBZ Klagenfurt\, Waaggasse 18\, Klagenfurt\, 9020\, Österreich
CATEGORIES:Dreitageskurs
ATTACH;FMTTYPE=image/jpeg:https://hsh-lamprecht.de/wp-content/uploads/2024/10/hsh-lamprecht-fortbildung-neuroreha-praktisch-wB8ett.tmp_.jpg
END:VEVENT
BEGIN:VEVENT
DTSTART;TZID=Europe/Berlin:20250614T090000
DTEND;TZID=Europe/Berlin:20250615T153000
DTSTAMP:20260424T120905
CREATED:20250210T170758Z
LAST-MODIFIED:20250307T101545Z
UID:10001258-1749891600-1750001400@hsh-lamprecht.de
SUMMARY:Training in der Neurologie und Geriatrie
DESCRIPTION:Kursinfos und Anmeldung unter: https://www.fbz-klagenfurt.at/lehrgaenge/detail/training-in-der-neurologie-und-geriatrie
URL:https://hsh-lamprecht.de/fortbildung/training-in-der-neurologie-und-geriatrie-6
LOCATION:FBZ Klagenfurt\, Waaggasse 18\, Klagenfurt\, 9020\, Österreich
CATEGORIES:Zweitageskurs
ATTACH;FMTTYPE=image/jpeg:https://hsh-lamprecht.de/wp-content/uploads/2024/10/hsh-lamprecht-fortbildung-training-neurologie-oY77w7.tmp_.jpg
END:VEVENT
BEGIN:VEVENT
DTSTART;TZID=Europe/Berlin:20250617T090000
DTEND;TZID=Europe/Berlin:20250617T170000
DTSTAMP:20260424T120905
CREATED:20250210T170812Z
LAST-MODIFIED:20250307T101647Z
UID:10001259-1750150800-1750179600@hsh-lamprecht.de
SUMMARY:Gleichgewicht & Sturzprophylaxe
DESCRIPTION:Kursinfos und Anmeldung unter: https://dasmediabc.de/kursdetails/koerperhaltung%20verstehen%20und%20korrigieren%20-%20posturologie%20kompakt/?kurs=251GG
URL:https://hsh-lamprecht.de/fortbildung/gleichgewicht-sturzprophylaxe
LOCATION:MediABC\, Steinfeldstr. 1\, Nürnberg\, Bayern\, 90425\, Deutschland
CATEGORIES:Eintageskurs
ATTACH;FMTTYPE=image/jpeg:https://hsh-lamprecht.de/wp-content/uploads/2024/10/hsh-lamprecht-fortbildung-gleichgewicht-sturzprophylaxe-1afOWm.tmp_.jpg
END:VEVENT
BEGIN:VEVENT
DTSTART;TZID=Europe/Berlin:20250617T090000
DTEND;TZID=Europe/Berlin:20250617T170000
DTSTAMP:20260424T120905
CREATED:20250210T175401Z
LAST-MODIFIED:20250307T101711Z
UID:10001346-1750150800-1750179600@hsh-lamprecht.de
SUMMARY:Spiegeltherapie bei Phantomschmerz - CRPS und Schlaganfall
DESCRIPTION:Kursinfos und Anmeldung unter: https://dasmediabc.de/kursdetails/spiegeltherapie%20bei%20phantomschmerz%20crps%20und%20nach%20schlaganfall/?kurs=251ST
URL:https://hsh-lamprecht.de/fortbildung/spiegeltherapie-bei-phantomschmerz-crps-und-schlaganfall-3
LOCATION:MediABC\, Steinfeldstr. 1\, Nürnberg\, Bayern\, 90425\, Deutschland
CATEGORIES:Eintageskurs
ATTACH;FMTTYPE=image/jpeg:https://hsh-lamprecht.de/wp-content/uploads/2024/10/hsh-lamprecht-fortbildung-spiegeltherapie-Tzq2k8.tmp_.jpg
END:VEVENT
BEGIN:VEVENT
DTSTART;TZID=Europe/Berlin:20250618T090000
DTEND;TZID=Europe/Berlin:20250618T170000
DTSTAMP:20260424T120905
CREATED:20250210T170813Z
LAST-MODIFIED:20250307T101919Z
UID:10001262-1750237200-1750266000@hsh-lamprecht.de
SUMMARY:Therapie bei ALS (Amyotropher Lateralsklerose)
DESCRIPTION:Kursinfos und Anmeldung unter: https://dasmediabc.de/kursdetails/spiegeltherapie%20bei%20phantomschmerz%20crps%20und%20nach%20schlaganfall/?kurs=251ALS
URL:https://hsh-lamprecht.de/fortbildung/therapie-bei-als-amyotropher-lateralsklerose-10
LOCATION:MediABC\, Steinfeldstr. 1\, Nürnberg\, Bayern\, 90425\, Deutschland
CATEGORIES:Eintageskurs
ATTACH;FMTTYPE=image/jpeg:https://hsh-lamprecht.de/wp-content/uploads/2024/10/hsh-lamprecht-fortbildung-als-snU0gD.tmp_.jpg
END:VEVENT
BEGIN:VEVENT
DTSTART;TZID=Europe/Berlin:20250618T090000
DTEND;TZID=Europe/Berlin:20250619T153000
DTSTAMP:20260424T120905
CREATED:20250210T170812Z
LAST-MODIFIED:20250307T101754Z
UID:10001261-1750237200-1750347000@hsh-lamprecht.de
SUMMARY:Effektive Übungen in der Neurologie und Geriatrie
DESCRIPTION:Kursinfos und Anmeldung unter: https://dasmediabc.de/kursdetails/spiegeltherapie%20bei%20phantomschmerz%20crps%20und%20nach%20schlaganfall/?kurs=251EF
URL:https://hsh-lamprecht.de/fortbildung/effektive-a%e2%80%a0bungeno-in-der-neurologie-und-geriatrie-5
LOCATION:MediABC\, Steinfeldstr. 1\, Nürnberg\, Bayern\, 90425\, Deutschland
CATEGORIES:Zweitageskurs
ATTACH;FMTTYPE=image/jpeg:https://hsh-lamprecht.de/wp-content/uploads/2024/03/hsh-lamprecht-fortbildung-uebungen.jpg
END:VEVENT
BEGIN:VEVENT
DTSTART;TZID=Europe/Berlin:20250621T090000
DTEND;TZID=Europe/Berlin:20250621T170000
DTSTAMP:20260424T120905
CREATED:20250210T170813Z
LAST-MODIFIED:20250307T102007Z
UID:10001263-1750496400-1750525200@hsh-lamprecht.de
SUMMARY:Neuroreha bei M. Parkinson
DESCRIPTION:Kursinfos und Anmeldung unter: https://vpt-bw.de/hauptmenu/fort-weiterbildung/fortbildungen/fortbildung-details/neurorehabilitation-bei-m-parkinson/
URL:https://hsh-lamprecht.de/fortbildung/neuroreha-bei-m-parkinson-8
LOCATION:VPT BW\, Stauferstraße 13\, Fellbach\, 70736\, Germany
CATEGORIES:Eintageskurs
ATTACH;FMTTYPE=image/jpeg:https://hsh-lamprecht.de/wp-content/uploads/2024/10/hsh-lamprecht-fortbildung-neuroreha-parkinson-5g4vhr.tmp_.jpg
END:VEVENT
BEGIN:VEVENT
DTSTART;TZID=Europe/Berlin:20250627T090000
DTEND;TZID=Europe/Berlin:20250627T170000
DTSTAMP:20260424T120905
CREATED:20250210T170827Z
LAST-MODIFIED:20250307T103028Z
UID:10001264-1751014800-1751043600@hsh-lamprecht.de
SUMMARY:Die 10 größten Irrtümer in der Neurologie
DESCRIPTION:Kursinfos und Anmeldung unter: https://ulmkolleg.net/Kursart/KursID/Die%2010%20gr%c3%b6%c3%9ften%20Irrt%c3%bcmer%20in%20der%20Neurorehabilitation/KursinternID/3000/KursRepGuid/571de0fc-703c-4eba-9bd3-a7be4e029239/
URL:https://hsh-lamprecht.de/fortbildung/die-10-grs%c2%a7ten-irrtymer-in-der-neurologie
LOCATION:Ulmkolleg\, Oberberghof 5\, Ulm\, Baden-Württemberg\, 89081\, Deutschland
CATEGORIES:Eintageskurs
ATTACH;FMTTYPE=image/jpeg:https://hsh-lamprecht.de/wp-content/uploads/2024/10/hsh-lamprecht-fortbildung-irrtuemer-iztBVm.tmp_.jpg
END:VEVENT
BEGIN:VEVENT
DTSTART;TZID=Europe/Berlin:20250628T090000
DTEND;TZID=Europe/Berlin:20250628T170000
DTSTAMP:20260424T120905
CREATED:20250210T170827Z
LAST-MODIFIED:20250307T103321Z
UID:10001265-1751101200-1751130000@hsh-lamprecht.de
SUMMARY:Long Covid aus neurologischer Sicht
DESCRIPTION:Kursinfos und Anmeldung unter: https://www.kliniken-schmieder.de/fortbildung-zenith/einblicke-in-die-kurse/long-covid-aus-neurologischer-sicht-2.html
URL:https://hsh-lamprecht.de/fortbildung/long-covid-aus-neurologiescher-sicht
LOCATION:Zenith Gerlingen\, Solitudestraße 20\, Gerlingen\, 70839\, Germany
CATEGORIES:Eintageskurs
ATTACH;FMTTYPE=image/jpeg:https://hsh-lamprecht.de/wp-content/uploads/2024/10/hsh-lamprecht-fortbildung-long-covid-asTXUv.tmp_.jpg
END:VEVENT
END:VCALENDAR