BEGIN:VCALENDAR
VERSION:2.0
PRODID:-//HSH-Lamprecht - ECPv6.15.18//NONSGML v1.0//EN
CALSCALE:GREGORIAN
METHOD:PUBLISH
X-WR-CALNAME:HSH-Lamprecht
X-ORIGINAL-URL:https://hsh-lamprecht.de
X-WR-CALDESC:Veranstaltungen für HSH-Lamprecht
REFRESH-INTERVAL;VALUE=DURATION:PT1H
X-Robots-Tag:noindex
X-PUBLISHED-TTL:PT1H
BEGIN:VTIMEZONE
TZID:Europe/Berlin
BEGIN:DAYLIGHT
TZOFFSETFROM:+0100
TZOFFSETTO:+0200
TZNAME:CEST
DTSTART:20250330T010000
END:DAYLIGHT
BEGIN:STANDARD
TZOFFSETFROM:+0200
TZOFFSETTO:+0100
TZNAME:CET
DTSTART:20251026T010000
END:STANDARD
BEGIN:DAYLIGHT
TZOFFSETFROM:+0100
TZOFFSETTO:+0200
TZNAME:CEST
DTSTART:20260329T010000
END:DAYLIGHT
BEGIN:STANDARD
TZOFFSETFROM:+0200
TZOFFSETTO:+0100
TZNAME:CET
DTSTART:20261025T010000
END:STANDARD
BEGIN:DAYLIGHT
TZOFFSETFROM:+0100
TZOFFSETTO:+0200
TZNAME:CEST
DTSTART:20270328T010000
END:DAYLIGHT
BEGIN:STANDARD
TZOFFSETFROM:+0200
TZOFFSETTO:+0100
TZNAME:CET
DTSTART:20271031T010000
END:STANDARD
END:VTIMEZONE
BEGIN:VEVENT
DTSTART;TZID=Europe/Berlin:20260911T090000
DTEND;TZID=Europe/Berlin:20260912T153000
DTSTAMP:20260422T120911
CREATED:20250912T081851Z
LAST-MODIFIED:20250916T102903Z
UID:10001460-1789117200-1789227000@hsh-lamprecht.de
SUMMARY:Neurorehabilitation bei Multipler Sklerose
DESCRIPTION:Hintergrund \nMultiple Sklerose erfordert eine individuelle und symptomorientierte Befundung und Behandlung\, da sie sich von anderen neurologischen Krankheitsbildern unterscheidet. In der Neurorehabilitation findet ein Paradigmenwechsel hin zu neuen\, evidenzbasierten Methoden statt. Neue Erkenntnisse über das Krankheitsbild und die Wirksamkeit der Neurorehabilitation machen physiotherapeutische und ergotherapeutische Ansätze noch bedeutsamer als zuvor.\nDieser Kurs zielt darauf ab\, neue Perspektiven in der Behandlung von MS-Patienten zu eröffnen. Teilnehmende lernen neue\, evidenzbasierte Erkenntnisse der Neurorehabilitation kennen und erfahren\, wie sie diese praxisnah in den Therapiealltag integrieren können. Der Kurs behandelt interdisziplinäre Schnittstellen und zeigt auf\, wie Therapie\, Sport und Selbsthilfe als Säulen der Behandlung bei MS-Patienten wirken. Ziel sollte es immer sein\, individuelle\, langfristig angelegte Therapiekonzepte in Zusammenarbeit mit den Betroffenen und deren Angehörigen zu entwickeln. \nKursinhalte \n\nSymptomorientierte Befundung und Behandlungsansätze bei MS\nTheoretische Grundlagen der Multiplen Sklerose (Pathophysiologie\, Verlauf\, Prognosen\, Medikamente\, Diagnostik und mehr)\nNeue evidenzbasierte Therapieansätze in der Neurorehabilitation\nSpezifische Gangrehabilitation bei Multipler Sklerose\nInterdisziplinäres Vorgehen bei Multipler Sklerose\nEffektive Therapieansätze unter Berücksichtigung neuer Erkenntnisse in der Neurorehabilitation\, z.B. bei Spastik und Ataxie\nPraktische Anwendung valider MS-Assessments\nDemonstration und Behandlung von Patienten anhand von Videobeispielen
URL:https://hsh-lamprecht.de/fortbildung/neurorehabilitation-bei-multipler-sklerose-6
LOCATION:IFA\, Otto-Ficker-Straße 2\, Kirchheim/Teck\, Baden-Württemberg\, 73230\, Deutschland
CATEGORIES:Zweitageskurs
ATTACH;FMTTYPE=image/jpeg:https://hsh-lamprecht.de/wp-content/uploads/2024/10/hsh-lamprecht-fortbildung-neuroreha-ms-Alum1q.tmp_.jpg
END:VEVENT
BEGIN:VEVENT
DTSTART;TZID=Europe/Berlin:20260914T090000
DTEND;TZID=Europe/Berlin:20260914T170000
DTSTAMP:20260422T120911
CREATED:20250912T081852Z
LAST-MODIFIED:20250916T102839Z
UID:10001461-1789376400-1789405200@hsh-lamprecht.de
SUMMARY:Neurorehabilitation bei Parkinson
DESCRIPTION:Hintergrund \nParkinson gehört bereits heute zu den häufigsten neurologischen Erkrankungen im Erwachsenenalter. Aufgrund des demographischen Wandels wird die Zahl an Betroffenen weiter ansteigen. Der Umgang mit Betroffenen und ihren Angehörigen sowie die Behandlung dieser komplexen Erkrankung stellen Therapeut:innen vor vielfältige Herausforderungen. Dies erfordert ein fundiertes Wissen über den Krankheitsverlauf\, die Leitsymptome und die Durchführung einer gezielten Behandlung. \nIn diesem Kurs erlernen Sie moderne\, evidenzbasierte Therapieansätze zur Neurorehabilitation bei Parkinson und deren praxisorientierte Umsetzung im Therapiealltag. Neben den therapeutischen Methoden werden auch die wichtigsten interdisziplinären Schnittstellen thematisiert\, um eine umfassende Betreuung von Betroffenen sicherzustellen. Nach Abschluss des Kurses sind Sie in der Lage die neuesten wissenschaftlichen Erkenntnisse in der Behandlung von Parkinson-Patient:innen in Ihrer täglichen Praxis erfolgreich anzuwenden. \n  \nKursinhalte \n \n\nPathophysiologie\, Verlauf und Prognose bei (a)typischem Parkinson\nGrundlagen der medikamentösen Therapie sowie weitere Behandlungsmöglichkeiten bei Parkinson\nZusammenhänge zwischen medikamentöser Behandlung und therapeutischen Maßnahmen\nVermittlung eines strategischen und zielgerichteten Befundes unter Einsatz von Assessments\nVorstellung von evidenzbasierten Behandlungsansätzen und Trainingslehre bei Parkinson\nDurchführung einer effektiven und spezifischen Gangrehabilitation und Sturzprophylaxe\nGezielter Einsatz von Hilfsmitteln\nTipps im Umgang mit Angehörigen
URL:https://hsh-lamprecht.de/fortbildung/neurorehabilitation-bei-parkinson-6
LOCATION:Online
CATEGORIES:Eintageskurs
ATTACH;FMTTYPE=image/jpeg:https://hsh-lamprecht.de/wp-content/uploads/2024/10/hsh-lamprecht-fortbildung-neuroreha-parkinson-5g4vhr.tmp_.jpg
END:VEVENT
BEGIN:VEVENT
DTSTART;TZID=Europe/Berlin:20260915T090000
DTEND;TZID=Europe/Berlin:20260915T170000
DTSTAMP:20260422T120911
CREATED:20250912T082049Z
LAST-MODIFIED:20250916T102757Z
UID:10001462-1789462800-1789491600@hsh-lamprecht.de
SUMMARY:Bedeutung des motorischen Lernens
DESCRIPTION:Hintergrund \nMotorisches Lernen ist ein zentrales Element unseres therapeutischen Handelns. Nur wer die Prinzipien des motorischen Lernens kennt und weiß\, wie man sie konkret im Praxisalltag anwendet\, kann Patient:innen in der Neurologie\, Geriatrie und Sporttherapie im Einzel- oder Gruppensetting effektiv und nachhaltig behandeln.\nDieser Kurs vermittelt praxisnah die Grundlagen und neuesten wissenschaftlichen Erkenntnisse zu motorischem Lernen. Es wird außerdem gezeigt wie dieses Wissen gezielt in der täglichen Therapiearbeit eingesetzt werden kann. Nach Abschluss dieses Kurses sind Sie mit effektiven Strategien ausgestattet\, um im Praxisalltag motorisches Lernen optimal zu fördern und Behandlungserfolge nachhaltig zu erzielen. \nKursinhalte \n\nVorstellung des neuesten Wissens um das Motorische Lernen\nPrinzipien des motorischen Lernens\nKrankheitsspezifische Anwendung der Prinzipien des motorischen Lernens\nDie Limitierungen des motorischen Lernens\nEvidenzbasierter Therapieaufbau unter Berücksichtigung der Lernphasen\nHilfestellungen und Tipps zu alltagsorientiertem Training\nWichtige Aspekte bei der Durchführung von aufgabenorientiertem Training\nAnwendung des richtigen Shapings\nDurchführung spezifischer Einzel- und Gruppentherapie
URL:https://hsh-lamprecht.de/fortbildung/bedeutung-des-motorischen-lernens-2
LOCATION:Online
CATEGORIES:Eintageskurs
ATTACH;FMTTYPE=image/jpeg:https://hsh-lamprecht.de/wp-content/uploads/2024/10/hsh-lamprecht-fortbildung-motorisches-lernen-pDIMa8.tmp_.jpg
END:VEVENT
BEGIN:VEVENT
DTSTART;TZID=Europe/Berlin:20260921T090000
DTEND;TZID=Europe/Berlin:20260922T153000
DTSTAMP:20260422T120911
CREATED:20250912T082050Z
LAST-MODIFIED:20250916T102503Z
UID:10001464-1789981200-1790091000@hsh-lamprecht.de
SUMMARY:Update Schlaganfall
DESCRIPTION:Hintergrund \nMan weiß heute\, wie wichtig ein gezieltes Vorgehen nicht nur in den ersten Tagen und Wochen nach einem Schlaganfall ist\, sondern auch\, dass bei chronischen Schlaganfallpatient:innen mit gezielter Therapie auch noch Jahre später signifikante Verbesserungen erzielt werden können.\nIn diesem Kurs werden die neuesten wissenschaftlichen Erkenntnisse der Schlaganfallrehabilitation vorgestellt. Im Fokus steht die Frage\, welche Faktoren entscheidend sind\, damit eine effektive Rehabilitation nach Schlaganfall wirkungsvoll ist und nachhaltige Erfolge erzielt. Dabei werden evidenzbasierte Ansätze der Gangrehabilitation\, der Behandlung neurokognitiver Beeinträchtigungen sowie der Therapie der oberen Extremität praxisnah vermittelt.\nDie Inhalte orientieren sich an den aktuellen Leitlinien der neurologischen Fachgesellschaften und werden durch praktische Beispiele\, Videodemonstrationen und Fallanalysen ergänzt. Das erworbene Wissen kann damit direkt im Praxisalltag angewendet werden. \nKursinhalte: \n\nKrankheitsspezifische Funktionseinschränkungen nach Schlaganfall\nEvidenzbasierte Behandlungsansätze und relevante Aspekte des Motorisches Lernens nach Schlaganfall\nLeitliniengerechte Rehabilitation der oberen Extremität nach Schlaganfall\nLeitliniengerechte Gangrehabilitation\nNachhaltige Therapieansätze bei Spastik\nEffektive Therapie bei der schmerzhaften Schulter\nHilfsmittel- und Orthesenversorgung\, einschließlich funktioneller Elektrostimulation für obere und untere Extremität
URL:https://hsh-lamprecht.de/fortbildung/update-schlaganfall-15
LOCATION:Online
CATEGORIES:Zweitageskurs
ATTACH;FMTTYPE=image/jpeg:https://hsh-lamprecht.de/wp-content/uploads/2024/10/hsh-lamprecht-fortbildung-update-ODhmvD.tmp_.jpg
END:VEVENT
END:VCALENDAR