BEGIN:VCALENDAR
VERSION:2.0
PRODID:-//HSH-Lamprecht - ECPv6.15.18//NONSGML v1.0//EN
CALSCALE:GREGORIAN
METHOD:PUBLISH
X-WR-CALNAME:HSH-Lamprecht
X-ORIGINAL-URL:https://hsh-lamprecht.de
X-WR-CALDESC:Veranstaltungen für HSH-Lamprecht
REFRESH-INTERVAL;VALUE=DURATION:PT1H
X-Robots-Tag:noindex
X-PUBLISHED-TTL:PT1H
BEGIN:VTIMEZONE
TZID:Europe/Berlin
BEGIN:DAYLIGHT
TZOFFSETFROM:+0100
TZOFFSETTO:+0200
TZNAME:CEST
DTSTART:20240331T010000
END:DAYLIGHT
BEGIN:STANDARD
TZOFFSETFROM:+0200
TZOFFSETTO:+0100
TZNAME:CET
DTSTART:20241027T010000
END:STANDARD
BEGIN:DAYLIGHT
TZOFFSETFROM:+0100
TZOFFSETTO:+0200
TZNAME:CEST
DTSTART:20250330T010000
END:DAYLIGHT
BEGIN:STANDARD
TZOFFSETFROM:+0200
TZOFFSETTO:+0100
TZNAME:CET
DTSTART:20251026T010000
END:STANDARD
BEGIN:DAYLIGHT
TZOFFSETFROM:+0100
TZOFFSETTO:+0200
TZNAME:CEST
DTSTART:20260329T010000
END:DAYLIGHT
BEGIN:STANDARD
TZOFFSETFROM:+0200
TZOFFSETTO:+0100
TZNAME:CET
DTSTART:20261025T010000
END:STANDARD
END:VTIMEZONE
BEGIN:VEVENT
DTSTART;TZID=Europe/Berlin:20251006T090000
DTEND;TZID=Europe/Berlin:20251006T170000
DTSTAMP:20260422T134124
CREATED:20241017T160719Z
LAST-MODIFIED:20250220T154819Z
UID:10001143-1759741200-1759770000@hsh-lamprecht.de
SUMMARY:Post Covid aus neurologischer Sicht
DESCRIPTION:Lernziele: \nIn diesem Kurs wird das Thema Post-Covid aktuell dargestellt. Es werden die Ursachen und Risikofaktoren besprochen. Besondere Aufmerksamkeit gilt der Differenzierung und Erkennung der Häufigkeit und Art der Symptome. Zudem werden relevante Assessments und ihre Interpretation behandelt. Mögliche neuropathologische Hintergründe werden diskutiert. Ziel ist das Verständnis für neurologische Symptome\, das Chronische Fatigue-Syndrom (ME/CFS) und die Postexertional Malaise. Ein interdisziplinäres\, ganzheitliches therapeutisches Vorgehen steht dabei im Fokus. \nHintergrund: \nCovid-19 hat zu komplexen und langfristigen Diagnosen und Krankheitsbildern geführt\, wie z.B. Post-Covid-Fatigue\, Critical Illness Polyneuropathien\, Post Intensive Care Syndrom (PICS)\, sowie kombinierte kognitive Defizite und psychische Probleme. Therapeuten sind gefordert\, diesen neuen Herausforderungen fachlich fundiert zu begegnen\, effektiv zu therapieren und die Betroffenen kompetent zu begleiten. Der Kurs bietet einen Überblick über die aktuellen Erkenntnisse zu Long Covid mit neurologischen Symptomen und anderen neurologischen Erkrankungen. Es wird auf Assessments und die effektive\, individualisierte\, nicht-pharmakologische Therapie/Rehabilitation eingegangen. \nLernplan: \n\nWissen über Häufigkeit und Art der Symptome\nVerständnis der Ursachen von neurologischen Symptomen\nPraktische Relevanz von Assessments bei Post-Covid\nVerständnis der neuropathologischen Hintergründe\nTherapeutische Ansätze für das Chronische Fatigue-Syndrom (ME/CFS)\nVermeidung der Postexertionalen Malaise (PEM)\nInterdisziplinäres therapeutisches Vorgehen
URL:https://hsh-lamprecht.de/fortbildung/post-covid-aus-neurologischer-sicht-5
LOCATION:Online
CATEGORIES:Eintageskurs
ATTACH;FMTTYPE=image/jpeg:https://hsh-lamprecht.de/wp-content/uploads/2024/10/hsh-lamprecht-fortbildung-long-covid-asTXUv.tmp_.jpg
END:VEVENT
BEGIN:VEVENT
DTSTART;TZID=Europe/Berlin:20251007T090000
DTEND;TZID=Europe/Berlin:20251008T153000
DTSTAMP:20260422T134124
CREATED:20241017T160721Z
LAST-MODIFIED:20250220T154851Z
UID:10001144-1759827600-1759937400@hsh-lamprecht.de
SUMMARY:Update Schlaganfall
DESCRIPTION:Lernziele: \nIn diesem Kurs werden die neuen wissenschaftlichen Erkenntnisse der Schlaganfallrehabilitation besprochen. Es wird aufgezeigt\, wie Rehabilitation beim Schlaganfall effektiv wird\, so dass sie wirkliche Erfolge zeigt\, und welche Faktoren dabei entscheidend sind. Die Neurorehabilitation beim Schlaganfall wird nach neuesten wissenschaftlichen Erkenntnissen sehr praxisnah dargestellt. Es werden sowohl Gangrehabilitation\, neurokognitive Probleme als auch die aktuelle Therapie der oberen Extremität aufgezeigt. Grundlage sind auch die aktuellen Leitlinien der Fachgesellschaften. Praktische Umsetzung von wissenschaftlichen Erkenntnissen\, Patientenbeispiele und Videodemonstrationen machen diesen Kurs zu einem interessanten Praxiskurs. \nHintergrund: \nMan weiß heute\, wie wichtig ein gezieltes Vorgehen nicht nur in den ersten Tagen und Wochen nach einem Schlaganfall ist\, sondern auch\, dass bei chronischen Schlaganfallpatienten mit gezielter Therapie auch noch Jahre später Verbesserungen erzielt werden können. \nKursinhalte: \n\nKrankheitsspezifische Funktionseinschränkungen\nEvidenzbasierte Behandlungsansätze\nLeitliniengerechte Rehabilitation der oberen Extremität nach Schlaganfall\nLeitliniengerechte Gangrehabilitation\nNachhaltige Therapie bei Spastik\nEffektive Therapie bei der schmerzhaften Schulter\nHilfsmittel- und Orthesenversorgung einschließlich funktioneller Elektrostimulation für obere und untere Extremität
URL:https://hsh-lamprecht.de/fortbildung/update-schlaganfall-2
LOCATION:Online
CATEGORIES:Zweitageskurs
ATTACH;FMTTYPE=image/jpeg:https://hsh-lamprecht.de/wp-content/uploads/2024/10/hsh-lamprecht-fortbildung-update-ODhmvD.tmp_.jpg
END:VEVENT
BEGIN:VEVENT
DTSTART;TZID=Europe/Berlin:20251010T090000
DTEND;TZID=Europe/Berlin:20251011T170000
DTSTAMP:20260422T134124
CREATED:20241024T142147Z
LAST-MODIFIED:20250130T093542Z
UID:10001196-1760086800-1760202000@hsh-lamprecht.de
SUMMARY:IVRT Ausbildung zum Schwindel- und Vestibulartherapeuten 2025 - 2 Modul 1
DESCRIPTION:Modul 1: Fr. 10.10. + Sa. 11.10.2025 | Modul 2: Fr. 07.11. + Sa. 08.11.2025\nModul 1 + Modul 2 können nur zusammen gebucht werden! \n 
URL:https://hsh-lamprecht.de/fortbildung/ifa-ivrt-2025-2
LOCATION:IFA\, Otto-Ficker-Straße 2\, Kirchheim/Teck\, Baden-Württemberg\, 73230\, Deutschland
CATEGORIES:Zweitageskurs
ORGANIZER;CN="Dozententeam des Instituts f%C3%BCr vestibul%C3%A4re Rehabilitationstherapie (IVRT)":MAILTO:info@ivrt.de
END:VEVENT
BEGIN:VEVENT
DTSTART;TZID=Europe/Berlin:20251012T090000
DTEND;TZID=Europe/Berlin:20251012T170000
DTSTAMP:20260422T134124
CREATED:20241017T160731Z
LAST-MODIFIED:20250128T133345Z
UID:10001146-1760259600-1760288400@hsh-lamprecht.de
SUMMARY:IVRT Refresher - Ausbildung zum Schwindel- und Vestibulartherapeuten
DESCRIPTION:
URL:https://hsh-lamprecht.de/fortbildung/ifa-ivrt-refresher-2025
LOCATION:IFA\, Otto-Ficker-Straße 2\, Kirchheim/Teck\, Baden-Württemberg\, 73230\, Deutschland
CATEGORIES:Eintageskurs
ATTACH;FMTTYPE=image/jpeg:https://hsh-lamprecht.de/wp-content/uploads/2024/10/hsh-lamprecht-fortbildung-ivrt-SyDirT.tmp_.jpg
END:VEVENT
BEGIN:VEVENT
DTSTART;TZID=Europe/Berlin:20251013T090000
DTEND;TZID=Europe/Berlin:20251013T170000
DTSTAMP:20260422T134124
CREATED:20241017T160733Z
LAST-MODIFIED:20250210T140423Z
UID:10001147-1760346000-1760374800@hsh-lamprecht.de
SUMMARY:Gleichgewichtstraining & Sturzprophylaxe
DESCRIPTION:Lernziele: \nDie Kursteilnehmer sollen in der Lage sein\, gezieltes Gleichgewichtstraining bei verschiedenen Patientengruppen durchzuführen. Sie sollen differenziert Gleichgewichtsprobleme und Sturzursachen erkennen können\, sowohl bei neurologischen Krankheitsbildern als auch in der Geriatrie. Zudem sollen sie Assessments gezielt durchführen und interpretieren können\, um ein spezifisches Vorgehen und die Durchführung eines effektiven Gleichgewichtstrainings zu ermöglichen. Ein weiteres Ziel ist es\, ein umfassendes Verständnis für vielfältige Hilfsmittel zu entwickeln. \nHintergrund: \nGleichgewichtsstörungen sind häufig und vielfältig\, können jedoch gezielt und differenziert in jedem Alter therapiert werden. Stürze sind für einen Großteil der Unfälle im Krankenhaus verantwortlich\, können aber durch gezieltes Training und Therapie vermieden werden. Ein wesentlicher Bestandteil hierfür ist die Erfassung des Gleichgewichts und des Sturzrisikos durch gezielte Tests. Auf dieser Grundlage kann dann ein spezifisches Trainingsprogramm entwickelt werden\, das neben dem Training auch Tipps\, den Einsatz von Hilfsmitteln und Aktivitäten des täglichen Lebens (ADL) integriert. \nLehrplan: \n\nDifferenzierung und gezieltes Training von Gleichgewichtsproblemen\nAnalyse der Sturzursachen\nPraktische Durchführung des Sturztrainings\nSpezifisches Krafttraining zur Unterstützung des Gleichgewichts\nEinsatz von Hilfsmitteln in verschiedenen Bereichen
URL:https://hsh-lamprecht.de/fortbildung/gleichgewichtstraining-sturzprophylaxe-8
LOCATION:Online
CATEGORIES:Eintageskurs
ATTACH;FMTTYPE=image/jpeg:https://hsh-lamprecht.de/wp-content/uploads/2024/10/hsh-lamprecht-fortbildung-gleichgewicht-sturzprophylaxe-1afOWm.tmp_.jpg
END:VEVENT
BEGIN:VEVENT
DTSTART;TZID=Europe/Berlin:20251027T090000
DTEND;TZID=Europe/Berlin:20251027T170000
DTSTAMP:20260422T134124
CREATED:20241017T160748Z
LAST-MODIFIED:20250220T155547Z
UID:10001152-1761555600-1761584400@hsh-lamprecht.de
SUMMARY:Therapie auf der Stroke Unit
DESCRIPTION:Lernziele: \nIn diesem Kurs werden die neuen Erkenntnisse der Schlaganfallrehabilitation vorgestellt. Es wird aufgezeigt\, wie Rehabilitation beim Schlaganfall effektiv gestaltet werden kann\, um nachhaltige Erfolge zu erzielen und welche Faktoren dafür ausschlaggebend sind. Neue Therapieansätze beim Schlaganfall sind spezifisch auf bestimmte Problembereiche zugeschnitten und zeigen in diesen Bereichen häufig bessere Ergebnisse als andere Ansätze. \nDie Neurorehabilitation nach Schlaganfall wird konzeptionsübergreifend und unabhängig von spezifischen Behandlungsmethoden auf Basis neuester wissenschaftlicher Erkenntnisse dargestellt. Praktisches Therapiewissen und zahlreiche Videodemonstrationen machen diesen Kurs zu einem interessanten Praxiskurs. \nHintergrund: \nDie Bedeutung der ersten Tage und Wochen bei der Rehabilitation von Schlaganfallpatienten ist gut dokumentiert. Die lerninduzierte Plastizität ist in den ersten 6 Monaten nach einem Schlaganfall besonders aktiv\, wodurch die „richtige“ evidenzbasierte Vorgehensweise in dieser Zeit entscheidend für die Wiedererlangung der Gehfähigkeit und Greiffunktion sein kann. \nKursinhalte: \n\nLeitliniengerechte Rehabilitation der oberen Extremität nach Schlaganfall\nAlltagsorientiertes Training\nManagement von Spastik und Schwächen\nBehandlung der schmerzhaften Schulter\nGangrehabilitation und Versorgung mit Orthesen\nFunktionelle Elektrostimulation für obere und untere Extremität
URL:https://hsh-lamprecht.de/fortbildung/therapie-auf-der-stroke-unit-2
LOCATION:Online
CATEGORIES:Eintageskurs
ATTACH;FMTTYPE=image/jpeg:https://hsh-lamprecht.de/wp-content/uploads/2024/10/hsh-lamprecht-fortbildung-stroke-unit-7mRUwe.tmp_.jpg
END:VEVENT
END:VCALENDAR