BEGIN:VCALENDAR
VERSION:2.0
PRODID:-//HSH-Lamprecht - ECPv6.15.18//NONSGML v1.0//EN
CALSCALE:GREGORIAN
METHOD:PUBLISH
X-ORIGINAL-URL:https://hsh-lamprecht.de
X-WR-CALDESC:Veranstaltungen für HSH-Lamprecht
REFRESH-INTERVAL;VALUE=DURATION:PT1H
X-Robots-Tag:noindex
X-PUBLISHED-TTL:PT1H
BEGIN:VTIMEZONE
TZID:Europe/Berlin
BEGIN:DAYLIGHT
TZOFFSETFROM:+0100
TZOFFSETTO:+0200
TZNAME:CEST
DTSTART:20240331T010000
END:DAYLIGHT
BEGIN:STANDARD
TZOFFSETFROM:+0200
TZOFFSETTO:+0100
TZNAME:CET
DTSTART:20241027T010000
END:STANDARD
BEGIN:DAYLIGHT
TZOFFSETFROM:+0100
TZOFFSETTO:+0200
TZNAME:CEST
DTSTART:20250330T010000
END:DAYLIGHT
BEGIN:STANDARD
TZOFFSETFROM:+0200
TZOFFSETTO:+0100
TZNAME:CET
DTSTART:20251026T010000
END:STANDARD
BEGIN:DAYLIGHT
TZOFFSETFROM:+0100
TZOFFSETTO:+0200
TZNAME:CEST
DTSTART:20260329T010000
END:DAYLIGHT
BEGIN:STANDARD
TZOFFSETFROM:+0200
TZOFFSETTO:+0100
TZNAME:CET
DTSTART:20261025T010000
END:STANDARD
END:VTIMEZONE
BEGIN:VEVENT
DTSTART;TZID=Europe/Berlin:20250919T090000
DTEND;TZID=Europe/Berlin:20250920T153000
DTSTAMP:20260422T151710
CREATED:20241017T160705Z
LAST-MODIFIED:20250829T121807Z
UID:10001139-1758272400-1758382200@hsh-lamprecht.de
SUMMARY:Effektive „Übungen“ in der Neurologie & Geriatrie
DESCRIPTION:Lernziele: \nDie Teilnehmer sollen lernen\, die wichtigsten motorischen Probleme verschiedener Erkrankungen zu erkennen und so zu behandeln\, dass die Patienten im Alltag davon profitieren können. Sie sollen effektive Übungen und gezieltes Training kennenlernen\, die sowohl in der Praxis\, in der Klinik als auch im Hausbesuch leicht anwendbar und umsetzbar sind. \nHintergrund: \nNeurologische und geriatrische Patienten erfordern ein krankheitsspezifisches und symptomorientiertes therapeutisches Vorgehen. Bei geriatrischen und neurologischen Patienten sind alltagsorientierte Ziele wie die Verbesserung des Gleichgewichts\, des Gehens und des Greifens von Bedeutung. Gleichzeitig ist ein schädigungsorientiertes Vorgehen wichtig\, um Ausdauer und Kraft zu verbessern und damit das Gehen oder Greifen zu optimieren. \nNeue Erkenntnisse aus der Neurorehabilitation und der Geriatrieforschung zeigen einen Dosis-Wirkungszusammenhang auf. Daher ist es wichtig\, die Patienten zu motivieren\, selbst zu üben\, um erfolgreiche Ergebnisse zu erzielen. \nLehrplan: \nHauptprobleme erkennen und gezielt therapieren \nGezielte Übungen in der Geriatrie und in der Neurologie z.B. bei \n\nParkinson\nPolyneuropathien\nHemiplegie\nMultiple Sklerose und andere\n\nEigenübungen entwickeln für: \n\nSpezifische Kräftigung\nGleichgewichtstraining\nGezieltes Gangtraining\nAlltagsorientierte „Übungen“ und praxisnahes evidenzbasiertes Vorgehen\, um Greifen zu verbessern
URL:https://hsh-lamprecht.de/fortbildung/ifa-uebungen-2025
LOCATION:IFA\, Otto-Ficker-Straße 2\, Kirchheim/Teck\, Baden-Württemberg\, 73230\, Deutschland
CATEGORIES:Zweitageskurs
ATTACH;FMTTYPE=image/jpeg:https://hsh-lamprecht.de/wp-content/uploads/2024/10/hsh-lamprecht-fortbildung-uebungen-elljyo.tmp_.jpg
END:VEVENT
BEGIN:VEVENT
DTSTART;TZID=Europe/Berlin:20250922T090000
DTEND;TZID=Europe/Berlin:20250922T170000
DTSTAMP:20260422T151710
CREATED:20241017T160707Z
LAST-MODIFIED:20250220T151151Z
UID:10001140-1758531600-1758560400@hsh-lamprecht.de
SUMMARY:Therapie der oberen Extremität in der Neurologie/Geriatrie
DESCRIPTION:Lernziele: \nDieser Kurs behandelt das effektivste therapeutische Vorgehen der evidenzbasierten Armrehabilitation unter Berücksichtigung der aktuellen Leitlinien. Die Therapieschwerpunkte müssen dabei nach Krankheitsbild\, Schweregrad und Symptomen differenziert werden. Es werden optimale und nachhaltige Strategien bei Spastik\, schmerzhafter Schulter und anderen Einschränkungen aufgezeigt. Zudem werden Alltagshilfsmittel und viele Tipps für das Training zu Hause vermittelt. \nHintergrund: \nEvidenzbasierte Therapieverfahren bieten die Sicherheit\, die wirksamste Therapiestrategie für spezifische Krankheitsbilder und Probleme zu wählen. Gerade in der neurologischen Rehabilitation muss das Vorgehen individuell und krankheitsspezifisch sein. Moderne Behandlungsansätze\, die auf den Erkenntnissen des motorischen Lernens basieren\, werden vorgestellt und diskutiert. Das Seminar richtet sich sowohl an Therapeuten\, die in Kliniken tätig sind\, als auch an Therapeuten im ambulanten Bereich. Zahlreiche Videodemonstrationen machen den Kurs zu einem spannenden Praxiskurs. \nLehrplan: \n\nAnalyse der Armaktivitäten\nKrankheitsspezifische Funktionseinschränkungen\nModerne Behandlungsansätze wie z.B. mCIMT\, Armfähigkeitstraining usw.\nSpiegeltherapie\nGerätegestützte Therapie\nElektrostimulation\nAlltagstraining\nTherapie der Spastik\nSchulter-Arm-Syndrom
URL:https://hsh-lamprecht.de/fortbildung/therapie-der-oberen-extremitaet-in-der-neurologie-geriatrie-2
LOCATION:Online
CATEGORIES:Eintageskurs
ATTACH;FMTTYPE=image/jpeg:https://hsh-lamprecht.de/wp-content/uploads/2024/10/hsh-lamprecht-fortbildung-obere-extremitaet-3mlGdB.tmp_.jpg
END:VEVENT
BEGIN:VEVENT
DTSTART;TZID=Europe/Berlin:20250927T090000
DTEND;TZID=Europe/Berlin:20250927T170000
DTSTAMP:20260422T151710
CREATED:20241017T160718Z
LAST-MODIFIED:20250210T134648Z
UID:10001142-1758963600-1758992400@hsh-lamprecht.de
SUMMARY:CIMT / Forced Use / Therapie bei leichter bis mittlerer Armparese
DESCRIPTION:Lernziel: \nDieser Kurs zielt darauf ab\, zu verstehen\, welche Patienten am meisten von CIMT profitieren\, das praktische Vorgehen und die Hintergründe der CIMT-Therapie zu erlernen sowie deren praktische und gut umsetzbare Anwendung in Klinik und Praxis/Ambulanz zu verstehen. Es werden viele Tipps gegeben\, wie CIMT modifiziert angewendet werden kann (mCIMT). Zudem sollen die wichtigsten Rahmenbedingungen und verhaltenstherapeutischen Ansätze von CIMT bekannt werden\, sowie die Einordnung der 3 Säulen der CIM-Therapie. Ein erfolgreicher Einsatz von CIMT auch in der Pädiatrie wird vorgestellt. \nHintergrund: \nGemäß den Leitlinien der Deutschen Gesellschaft für Neurorehabilitation (DGNR) ist CIMT (Constraint Induced Movement Therapy) als eine der am besten untersuchten Methoden mit dem höchsten Empfehlungsgrad A für leichte und mittlere Armparesen empfohlen. Es gilt als unverzichtbarer Bestandteil jeder Therapiepraxis\, um Hand-Arm-Funktionen zu verbessern. \nLehrplan: \n\nGrundlagen der neurologischen Arm-Hand-Rehabilitation\nNeue evidenzbasierte Therapieansätze in Theorie und Praxis\nSpezifische Assessments für CIMT\nSicherstellung der Übertragung in den Alltag\nAnwendung des Konzepts bei verschiedenen Erkrankungen – auch in der Pädiatrie
URL:https://hsh-lamprecht.de/fortbildung/ifa-cimt-2025
LOCATION:IFA\, Otto-Ficker-Straße 2\, Kirchheim/Teck\, Baden-Württemberg\, 73230\, Deutschland
CATEGORIES:Eintageskurs
ATTACH;FMTTYPE=image/jpeg:https://hsh-lamprecht.de/wp-content/uploads/2024/10/hsh-lamprecht-fortbildung-cimt-kkO4gB.tmp_.jpg
END:VEVENT
END:VCALENDAR