BEGIN:VCALENDAR
VERSION:2.0
PRODID:-//HSH-Lamprecht - ECPv6.15.18//NONSGML v1.0//EN
CALSCALE:GREGORIAN
METHOD:PUBLISH
X-WR-CALNAME:HSH-Lamprecht
X-ORIGINAL-URL:https://hsh-lamprecht.de
X-WR-CALDESC:Veranstaltungen für HSH-Lamprecht
REFRESH-INTERVAL;VALUE=DURATION:PT1H
X-Robots-Tag:noindex
X-PUBLISHED-TTL:PT1H
BEGIN:VTIMEZONE
TZID:Europe/Berlin
BEGIN:DAYLIGHT
TZOFFSETFROM:+0100
TZOFFSETTO:+0200
TZNAME:CEST
DTSTART:20240331T010000
END:DAYLIGHT
BEGIN:STANDARD
TZOFFSETFROM:+0200
TZOFFSETTO:+0100
TZNAME:CET
DTSTART:20241027T010000
END:STANDARD
BEGIN:DAYLIGHT
TZOFFSETFROM:+0100
TZOFFSETTO:+0200
TZNAME:CEST
DTSTART:20250330T010000
END:DAYLIGHT
BEGIN:STANDARD
TZOFFSETFROM:+0200
TZOFFSETTO:+0100
TZNAME:CET
DTSTART:20251026T010000
END:STANDARD
BEGIN:DAYLIGHT
TZOFFSETFROM:+0100
TZOFFSETTO:+0200
TZNAME:CEST
DTSTART:20260329T010000
END:DAYLIGHT
BEGIN:STANDARD
TZOFFSETFROM:+0200
TZOFFSETTO:+0100
TZNAME:CET
DTSTART:20261025T010000
END:STANDARD
END:VTIMEZONE
BEGIN:VEVENT
DTSTART;TZID=Europe/Berlin:20250602T090000
DTEND;TZID=Europe/Berlin:20250602T170000
DTSTAMP:20260424T133207
CREATED:20241017T160549Z
LAST-MODIFIED:20250408T110722Z
UID:10001114-1748854800-1748883600@hsh-lamprecht.de
SUMMARY:Bedeutung des motorischen Lernens
DESCRIPTION:Motorisches Lernen bildet die Grundlage für unsere Therapie. Dieser Kurs stellt neue Entwicklungen im therapeutischen Vorgehen vor. Erkenntnisse\, wie Wissen um das motorische Lernen praxisnah angewendet wird\, werden vermittelt.  So können wir unsere Patienten besser und effektiver therapieren.  Motorisches Lernen ist in allen Bereichen der Therapie\, besonders in der Neurologie und Geriatrie\, aber auch in der Sporttherapie und bei Gruppentherapien wichtig.
URL:https://hsh-lamprecht.de/fortbildung/bedeutung-des-motorischen-lernens
LOCATION:Online
CATEGORIES:Eintageskurs
ATTACH;FMTTYPE=image/jpeg:https://hsh-lamprecht.de/wp-content/uploads/2024/10/hsh-lamprecht-fortbildung-motorisches-lernen-pDIMa8.tmp_.jpg
END:VEVENT
BEGIN:VEVENT
DTSTART;TZID=Europe/Berlin:20250620T090000
DTEND;TZID=Europe/Berlin:20250621T153000
DTSTAMP:20260424T133207
CREATED:20241017T160603Z
LAST-MODIFIED:20250214T140636Z
UID:10001117-1750410000-1750519800@hsh-lamprecht.de
SUMMARY:Neurorehabilitation bei MS
DESCRIPTION:Lernziele: \nDieser Kurs zielt darauf ab\, neue Perspektiven in der Behandlung von MS-Patienten zu eröffnen. Teilnehmer lernen neue\, evidenzbasierte Erkenntnisse der Neurorehabilitation kennen und erfahren\, wie sie diese praxisnah in den Therapiealltag integrieren können. Der Kurs behandelt interdisziplinäre Schnittstellen und zeigt auf\, wie Therapie\, Sport und Selbsthilfe als Säulen der Behandlung bei MS-Patienten wirken. Ziel ist es\, individuelle\, langfristig angelegte Therapiekonzepte in Zusammenarbeit mit den Betroffenen und deren Angehörigen zu entwickeln. \nHintergrund: \nMultiple Sklerose erfordert eine individuelle und symptomorientierte Befundung und Behandlung\, da sie sich von anderen neurologischen Krankheitsbildern unterscheidet. In der Neurorehabilitation findet ein Paradigmenwechsel hin zu neuen\, evidenzbasierten Methoden statt. Neue Erkenntnisse über das Krankheitsbild und die Wirksamkeit der Neurorehabilitation machen physiotherapeutische und ergotherapeutische Ansätze noch bedeutsamer als zuvor. \nLehrplan: \n\nSymptomorientierte Befundung und Behandlungsansätze bei MS\nTheoretische Grundlagen der Multiplen Sklerose (Pathophysiologie\, Verlauf\, Prognosen\, Medikamente\, Diagnostik und mehr)\nNeue evidenzbasierte Therapieansätze in der Neurorehabilitation\nSpezifische Gangrehabilitation bei Multipler Sklerose\nTherapeutisches Vorgehen unter Berücksichtigung neuer Erkenntnisse in der Neurorehabilitation\, z.B. bei Spastik und Ataxie\nPraktische Anwendung valider MS-Assessments\nDemonstration und Behandlung von Patienten anhand von Videobeispielen
URL:https://hsh-lamprecht.de/fortbildung/ifa-neuroreha-ms-2025
LOCATION:IFA\, Otto-Ficker-Straße 2\, Kirchheim/Teck\, Baden-Württemberg\, 73230\, Deutschland
CATEGORIES:Zweitageskurs
ATTACH;FMTTYPE=image/jpeg:https://hsh-lamprecht.de/wp-content/uploads/2024/10/hsh-lamprecht-fortbildung-neuroreha-ms-Alum1q.tmp_.jpg
END:VEVENT
BEGIN:VEVENT
DTSTART;TZID=Europe/Berlin:20250630T090000
DTEND;TZID=Europe/Berlin:20250630T170000
DTSTAMP:20260424T133207
CREATED:20241017T160617Z
LAST-MODIFIED:20250210T133200Z
UID:10001121-1751274000-1751302800@hsh-lamprecht.de
SUMMARY:Blasenstörungen in der Neurologie
DESCRIPTION:Lernziele: Dieser Kurs vermittelt fundiertes Wissen über neurogene Blasenstörungen sowohl in der Pädiatrie als auch in der Neurologie von Erwachsenen und Geriatrie. Teilnehmer lernen\, wie sich neurogene Blasenstörungen von anderen Blasenstörungen oder Beckenbodenschwächen unterscheiden lassen\, wie man diese differenziert und welche effektiven Therapieansätze existieren. Ein Überblick über die Vielfalt der neurogenen Blasenstörungen und Symptombilder wird anhand von praxisnahen Fallbeispielen erläutert. \nHintergrund: Ein fundiertes Verständnis von neurogenen Blasenstörungen ist entscheidend für eine gezielte Therapie in der Rehabilitation. Es fördert ein besseres Verständnis der Zusammenhänge und unterstützt interdisziplinäres Handeln und Denken. \nKursinhalte: Der Kurs behandelt verschiedene Formen neurogener Blasenstörungen und ihre spezifischen Symptome in der Pädiatrie\, Neurologie von Erwachsenen und Geriatrie. Es werden interdisziplinäre Schnittstellen zu Pflegekräften\, Urologen/Neurourologen und Neurologen beleuchtet.
URL:https://hsh-lamprecht.de/fortbildung/blasenstoerungen-in-der-neurologie
LOCATION:Online
CATEGORIES:Eintageskurs
ATTACH;FMTTYPE=image/jpeg:https://hsh-lamprecht.de/wp-content/uploads/2024/10/hsh-lamprecht-fortbildung-blasenstoerung-8LUh3j.tmp_.jpg
END:VEVENT
END:VCALENDAR